BEGIN:VCALENDAR
VERSION:2.0
PRODID:-//HAAB Project - ECPv6.15.20//NONSGML v1.0//EN
CALSCALE:GREGORIAN
METHOD:PUBLISH
X-WR-CALNAME:HAAB Project
X-ORIGINAL-URL:https://haabproject.com
X-WR-CALDESC:Events for HAAB Project
REFRESH-INTERVAL;VALUE=DURATION:PT1H
X-Robots-Tag:noindex
X-PUBLISHED-TTL:PT1H
BEGIN:VTIMEZONE
TZID:America/Mexico_City
BEGIN:STANDARD
TZOFFSETFROM:-0600
TZOFFSETTO:-0600
TZNAME:CST
DTSTART:20250101T000000
END:STANDARD
END:VTIMEZONE
BEGIN:VEVENT
DTSTART;TZID=America/Mexico_City:20260521T180000
DTEND;TZID=America/Mexico_City:20260521T203000
DTSTAMP:20260419T131108
CREATED:20260408T195835Z
LAST-MODIFIED:20260408T195835Z
UID:10000914-1779386400-1779395400@haabproject.com
SUMMARY:Curious Night Sessions: La Divisa Energética
DESCRIPTION:La Divisa Energética — La Economía Invisible que nadie te enseñó a usar \nEl ser humano es comerciante por naturaleza. Cada pensamiento\, emoción y relación es una inversión\, y\ncomo en toda economía\, hay quienes generan retorno y hay quienes solo acumulan deuda. \nJorge Inda\, autor de La Divisa Energética\, revela que existe una economía invisible que rige tu vida:\nno se mide en dinero\, se mide en la energía que emites\, circulas y recibes a cambio. \nEn esta charla aprenderás a identificar: \n– Las tres recompensas energéticas por las que el ser humano actúa (y cuál es la tuya)\n– Por qué tu cerebro es el inversor más exigente que existe\n– Qué son las fugas energéticas y cómo drenan tu capacidad de recibir\n– Cómo elevar la calidad de la energía que entregas y con eso\, lo que recibes a cambio \nEs economía de conciencia.
URL:https://haabproject.com/event/curious-night-sessions-la-divisa-energetica/
LOCATION:HAAB\, Amsterdam 255\, CDMX\, Ciudad de México\, 06100\, Mexico
ATTACH;FMTTYPE=image/jpeg:https://haabproject.com/wp-content/uploads/2026/04/CURIOUS-NIGHT-SESSIONS-WEB.jpg
END:VEVENT
END:VCALENDAR