BEGIN:VCALENDAR
VERSION:2.0
PRODID:-//HAAB Project - ECPv6.15.20//NONSGML v1.0//EN
CALSCALE:GREGORIAN
METHOD:PUBLISH
X-WR-CALNAME:HAAB Project
X-ORIGINAL-URL:https://haabproject.com
X-WR-CALDESC:Events for HAAB Project
REFRESH-INTERVAL;VALUE=DURATION:PT1H
X-Robots-Tag:noindex
X-PUBLISHED-TTL:PT1H
BEGIN:VTIMEZONE
TZID:America/Mexico_City
BEGIN:STANDARD
TZOFFSETFROM:-0600
TZOFFSETTO:-0600
TZNAME:CST
DTSTART:20250101T000000
END:STANDARD
END:VTIMEZONE
BEGIN:VEVENT
DTSTART;TZID=America/Mexico_City:20260505T190000
DTEND;TZID=America/Mexico_City:20260505T203000
DTSTAMP:20260419T184232
CREATED:20260415T184327Z
LAST-MODIFIED:20260415T184327Z
UID:10000916-1778007600-1778013000@haabproject.com
SUMMARY:Connection Economy Lab — Mayo 2026
DESCRIPTION:Entérate de los highlights y trends que aprendí como Speaker en el CMX Summit\, el evento más importante de la industria de comunidades a nivel mundial\, en Silicon Valley. \n¿Qué están haciendo las empresas líderes de Estados Unidos para que sus clientes no solo lleguen\, sino que se queden? \nEn este taller de 90 minutos compartiré los insights más accionables del Summit y trabajaremos juntos en cómo aplicarlos a tu negocio\, comunidad o proyecto. \nSi sientes que gastas mucho en atraer clientes y poco en que regresen\, este espacio es para ti.
URL:https://haabproject.com/event/connection-economy-lab-mayo-2026/
LOCATION:HAAB\, Amsterdam 255\, CDMX\, Ciudad de México\, 06100\, Mexico
CATEGORIES:Innovación y conocimiento
ATTACH;FMTTYPE=image/jpeg:https://haabproject.com/wp-content/uploads/2026/04/ECONOMY-LAB-WEB.jpg
END:VEVENT
BEGIN:VEVENT
DTSTART;TZID=America/Mexico_City:20260506T190000
DTEND;TZID=America/Mexico_City:20260506T213000
DTSTAMP:20260419T184232
CREATED:20260408T154949Z
LAST-MODIFIED:20260409T154407Z
UID:10000912-1778094000-1778103000@haabproject.com
SUMMARY:SIN DRAMA WEY – Creative Reset Night
DESCRIPTION:Sin Drama Wey – Creative Reset Night es una experiencia hecha por Marco Carrilo y Santiago Saldivar\, presencial diseñada para personas que están cansadas de repetir la misma historia en el amor\, en su trabajo o en su vida creativa. \nDurante 2.5 horas vivirás: \nDinámicas confrontativas en vivo\nEjercicios prácticos para romper patrones\nMomentos de catarsis colectiva\nUn bloque guiado de breathwork / activación emocional\nUn reset para personas que están construyendo o quieren arrancar algo nuevo en su vida. \nDirigido a: freelancers\, creativos\, emprendedores\, personas en transición profesional o emocional. \nSales con: \n\nMayor claridad de tus siguientes pasos.\nUna decisión concreta\nY una comunidad que está haciendo lo mismo que tú: Empezar a elegir diferente.
URL:https://haabproject.com/event/sin-drama-wey-creative-reset-night/
LOCATION:HAAB\, Amsterdam 255\, CDMX\, Ciudad de México\, 06100\, Mexico
CATEGORIES:Art & Culture
ATTACH;FMTTYPE=image/jpeg:https://haabproject.com/wp-content/uploads/2026/04/SIN-DRAMA-WEY-WEB.jpg
END:VEVENT
BEGIN:VEVENT
DTSTART;TZID=America/Mexico_City:20260507T180000
DTEND;TZID=America/Mexico_City:20260507T210000
DTSTAMP:20260419T184232
CREATED:20260417T154150Z
LAST-MODIFIED:20260417T154150Z
UID:10000917-1778176800-1778187600@haabproject.com
SUMMARY:Neuro Liderazgo- El Cerebro De La Empresa
DESCRIPTION:Únete a Pacho E. Benítez Aragón —neuropsicólogo\, filósofo y creador de Arquitectura Emocional— en un entrenamiento teórico-práctico diseñado para transformar radicalmente tu visión sobre la gestión de equipos. Este taller va más allá del liderazgo tradicional para profundizar en las actitudes inconscientes que optimizan u obstaculizan tu rol como líder. \nDurante esta inmersión grupal\, exploraremos cómo lograr una verdadera sincronización de equipos a través del sistema endocrino\, el lenguaje no verbal y el entendimiento de las huellas emocionales. \nAprenderás a identificar las necesidades psicoemocionales de tu entorno y adquirirás estrategias innovadoras y eficaces para tomar decisiones rápidas y acertadas en escenarios cambiantes.Si buscas potenciar los talentos \nindividuales de cada componente de tu grupo y aprender a mantener un sistema organizacional en equilibrio a pesar de las fluctuaciones del entorno\, este espacio es para ti.
URL:https://haabproject.com/event/neuro-liderazgo-el-cerebro-de-la-empresa/
LOCATION:HAAB\, Amsterdam 255\, CDMX\, Ciudad de México\, 06100\, Mexico
CATEGORIES:Innovación y conocimiento
ATTACH;FMTTYPE=image/jpeg:https://haabproject.com/wp-content/uploads/2026/04/NEURO-LIDERAZGO-WEB.jpg
END:VEVENT
BEGIN:VEVENT
DTSTART;TZID=America/Mexico_City:20260509T103000
DTEND;TZID=America/Mexico_City:20260509T143000
DTSTAMP:20260419T184232
CREATED:20260326T045034Z
LAST-MODIFIED:20260331T213015Z
UID:10000905-1778322600-1778337000@haabproject.com
SUMMARY:Workshop de manifestación- Casilda (vivir más fácil)
DESCRIPTION:Sesión para aprender los fundamentos de la manifestación y ponerlos en práctica. Aprender a hacer que cosas buenas y deseadas nos lleguen y nos sucedan. \nAbrimos puertas 10:30 am para que puedas tomar un café y comenzar puntuales 11 am.
URL:https://haabproject.com/event/workshop-de-manifestacion-casilda-vivir-mas-facil/
LOCATION:HAAB\, Amsterdam 255\, CDMX\, Ciudad de México\, 06100\, Mexico
CATEGORIES:Holistic
ATTACH;FMTTYPE=image/jpeg:https://haabproject.com/wp-content/uploads/2026/03/WORKSHOP-WEB-1.jpg
END:VEVENT
END:VCALENDAR