BEGIN:VCALENDAR
VERSION:2.0
PRODID:-//HAAB Project - ECPv6.15.20//NONSGML v1.0//EN
CALSCALE:GREGORIAN
METHOD:PUBLISH
X-WR-CALNAME:HAAB Project
X-ORIGINAL-URL:https://haabproject.com
X-WR-CALDESC:Events for HAAB Project
REFRESH-INTERVAL;VALUE=DURATION:PT1H
X-Robots-Tag:noindex
X-PUBLISHED-TTL:PT1H
BEGIN:VTIMEZONE
TZID:America/Mexico_City
BEGIN:STANDARD
TZOFFSETFROM:-0600
TZOFFSETTO:-0600
TZNAME:CST
DTSTART:20230101T000000
END:STANDARD
END:VTIMEZONE
BEGIN:VEVENT
DTSTART;TZID=America/Mexico_City:20240217T100000
DTEND;TZID=America/Mexico_City:20240217T113000
DTSTAMP:20260419T094347
CREATED:20240206T225114Z
LAST-MODIFIED:20240206T225114Z
UID:10000362-1708164000-1708169400@haabproject.com
SUMMARY:Sábados Conscientes - Clases de Acro Yoga
DESCRIPTION:Clase de AcroYoga en HAAB Project: fusiona yoga y acrobacias en un ambiente único. Apto para todos los niveles\, mejora equilibrio y conexión.
URL:https://haabproject.com/event/sabados-conscientes-clases-de-acro-yoga/
LOCATION:Amsterdam 255\, CDMX\, Ciudad de México\, 06100\, Mexico
CATEGORIES:Wellness
ATTACH;FMTTYPE=image/png:https://haabproject.com/wp-content/uploads/2024/02/HAAB-WIx-25.png
END:VEVENT
BEGIN:VEVENT
DTSTART;TZID=America/Mexico_City:20240220T180000
DTEND;TZID=America/Mexico_City:20240220T210000
DTSTAMP:20260419T094347
CREATED:20240206T201222Z
LAST-MODIFIED:20240206T201222Z
UID:10000360-1708452000-1708462800@haabproject.com
SUMMARY:Doing Business in Mexico
DESCRIPTION:Finance Frontiers: Decoding the Secrets of Raising Capital
URL:https://haabproject.com/event/doing-business-in-mexico/
LOCATION:Amsterdam 255\, CDMX\, Ciudad de México\, 06100\, Mexico
CATEGORIES:Innovation & Knowledge
ATTACH;FMTTYPE=image/png:https://haabproject.com/wp-content/uploads/2024/02/HAAB-WIx-18.png
END:VEVENT
BEGIN:VEVENT
DTSTART;TZID=America/Mexico_City:20240221T193000
DTEND;TZID=America/Mexico_City:20240221T213000
DTSTAMP:20260419T094347
CREATED:20240206T231218Z
LAST-MODIFIED:20240206T231218Z
UID:10000361-1708543800-1708551000@haabproject.com
SUMMARY:Psychotropic Breathwork
DESCRIPTION:Un estado mental fuera de lo común\, por medio de la respiración rápida y controlada.
URL:https://haabproject.com/event/psychotropic-breathwork-13/
LOCATION:Amsterdam 255\, CDMX\, Ciudad de México\, 06100\, Mexico
ATTACH;FMTTYPE=image/png:https://haabproject.com/wp-content/uploads/2024/02/PSYCHOTROPIC-BREATHWORK-Wix-2.png
END:VEVENT
BEGIN:VEVENT
DTSTART;TZID=America/Mexico_City:20240224T100000
DTEND;TZID=America/Mexico_City:20240224T113000
DTSTAMP:20260419T094347
CREATED:20240207T153524Z
LAST-MODIFIED:20240207T153524Z
UID:10000363-1708768800-1708774200@haabproject.com
SUMMARY:Sábados Conscientes - Introduction to Tai Chi
DESCRIPTION:For beginners. Stretching and basic movements of Wudang Tai Chi.
URL:https://haabproject.com/event/sabados-conscientes-introduction-to-tai-chi/
LOCATION:Amsterdam 255\, CDMX\, Ciudad de México\, 06100\, Mexico
CATEGORIES:Wellness
ATTACH;FMTTYPE=image/png:https://haabproject.com/wp-content/uploads/2024/02/HAAB-WIx.png
END:VEVENT
BEGIN:VEVENT
DTSTART;TZID=America/Mexico_City:20240224T173000
DTEND;TZID=America/Mexico_City:20240224T223000
DTSTAMP:20260419T094347
CREATED:20240222T204328Z
LAST-MODIFIED:20240222T204328Z
UID:10000365-1708795800-1708813800@haabproject.com
SUMMARY:Colectivo Miramar Takeover
DESCRIPTION:Lineup:\nColectivo Miramar\nGFH\nDolce Vita.
URL:https://haabproject.com/event/colectivo-miramar-takeover/
LOCATION:Amsterdam 255\, CDMX\, Ciudad de México\, 06100\, Mexico
ATTACH;FMTTYPE=image/jpeg:https://haabproject.com/wp-content/uploads/2024/02/IMG_4683.jpg
END:VEVENT
BEGIN:VEVENT
DTSTART;TZID=America/Mexico_City:20240224T173000
DTEND;TZID=America/Mexico_City:20240224T223000
DTSTAMP:20260419T094347
CREATED:20240222T204328Z
LAST-MODIFIED:20240222T204328Z
UID:10000366-1708795800-1708813800@haabproject.com
SUMMARY:Toma de posesión del Colectivo Miramar
DESCRIPTION:Alineación:\nColectivo Miramar\nGFH\nDolce Vita.
URL:https://haabproject.com/event/toma-de-posesion-del-colectivo-miramar/
LOCATION:Amsterdam 255\, CDMX\, Ciudad de México\, 06100\, Mexico
ATTACH;FMTTYPE=image/jpeg:https://haabproject.com/wp-content/uploads/2024/02/IMG_4683.jpg
END:VEVENT
BEGIN:VEVENT
DTSTART;TZID=America/Mexico_City:20240228T190000
DTEND;TZID=America/Mexico_City:20240228T220000
DTSTAMP:20260419T094347
CREATED:20240215T213632Z
LAST-MODIFIED:20240215T213632Z
UID:10000364-1709146800-1709157600@haabproject.com
SUMMARY:AI AMPED SOCIAL
DESCRIPTION:INTERACTIVE CONVERSATIONS\, AI DEMOS & SOCIAL NETWORKING \nJoin us for Interactive Conversations\, AI Demos\, and Networking at HAAB! \nAfter 3 Volumes of AI Amped\, we are opening it up for a Social Event.  Join the talented community of CDMX entrepreneurs\, creatives\, business folks\, and leaders for real conversations and practical applications about AI. \nThis event will showcase AI demos and interactive conversations designed to educate\, inspire\, and empower guests to leverage AI to be more effective in their day-to-day lives. \nLow-key\, fun\, and productive – it will be a great evening with lots of new connections. \n  \n 
URL:https://haabproject.com/event/ai-amped-social/
LOCATION:Amsterdam 255\, CDMX\, Ciudad de México\, 06100\, Mexico
CATEGORIES:Innovation & Knowledge,Social
ATTACH;FMTTYPE=image/png:https://haabproject.com/wp-content/uploads/2024/02/IMG_0097.png
END:VEVENT
END:VCALENDAR