BEGIN:VCALENDAR
VERSION:2.0
PRODID:-//HAAB Project - ECPv6.15.20//NONSGML v1.0//EN
CALSCALE:GREGORIAN
METHOD:PUBLISH
X-WR-CALNAME:HAAB Project
X-ORIGINAL-URL:https://haabproject.com
X-WR-CALDESC:Events for HAAB Project
REFRESH-INTERVAL;VALUE=DURATION:PT1H
X-Robots-Tag:noindex
X-PUBLISHED-TTL:PT1H
BEGIN:VTIMEZONE
TZID:America/Mexico_City
BEGIN:STANDARD
TZOFFSETFROM:-0600
TZOFFSETTO:-0600
TZNAME:CST
DTSTART:20250101T000000
END:STANDARD
END:VTIMEZONE
BEGIN:VEVENT
DTSTART;TZID=America/Mexico_City:20260527T170000
DTEND;TZID=America/Mexico_City:20260527T200000
DTSTAMP:20260419T131113
CREATED:20260408T155609Z
LAST-MODIFIED:20260417T190617Z
UID:10000913-1779901200-1779912000@haabproject.com
SUMMARY:Cultivarte: Taller del proceso creativo a través del arte abstracto
DESCRIPTION:Cultivarte es un espacio para encontrarte con tu proceso creativo.\nUn lugar para atravesar miedos\, soltar la perfección y dejar de lado el síndrome del impostor. \nA través del arte abstracto\, el lienzo se convierte en un espejo: una forma honesta y libre de expresarte\, reconectar contigo y recordar que crear también es un acto de merecimiento. \nEl taller se divide en dos momentos: \n1.⁠ ⁠Parte teórica\nUn espacio de reflexión donde exploramos los principales bloqueos al crear: el miedo\nla idea del “fracaso”\nel perfeccionismo\nel merecimiento \n2.⁠ ⁠Parte práctica\nUn cierre con exploración libre a través del arte abstracto\,donde cada persona puede expresarse sin expectativas ni juicios.
URL:https://haabproject.com/event/cultivarte-taller-del-proceso-creativo-a-traves-del-arte-abstracto/
LOCATION:HAAB\, Amsterdam 255\, CDMX\, Ciudad de México\, 06100\, Mexico
CATEGORIES:Art & Culture
ATTACH;FMTTYPE=image/jpeg:https://haabproject.com/wp-content/uploads/2026/04/CULTIVARTE-web-1.jpg
END:VEVENT
END:VCALENDAR