BEGIN:VCALENDAR
VERSION:2.0
PRODID:-//HAAB Project - ECPv6.15.20//NONSGML v1.0//EN
CALSCALE:GREGORIAN
METHOD:PUBLISH
X-WR-CALNAME:HAAB Project
X-ORIGINAL-URL:https://haabproject.com
X-WR-CALDESC:Events for HAAB Project
REFRESH-INTERVAL;VALUE=DURATION:PT1H
X-Robots-Tag:noindex
X-PUBLISHED-TTL:PT1H
BEGIN:VTIMEZONE
TZID:America/Mexico_City
BEGIN:STANDARD
TZOFFSETFROM:-0600
TZOFFSETTO:-0600
TZNAME:CST
DTSTART:20240101T000000
END:STANDARD
END:VTIMEZONE
BEGIN:VEVENT
DTSTART;TZID=America/Mexico_City:20250708T190000
DTEND;TZID=America/Mexico_City:20250708T210000
DTSTAMP:20260419T155717
CREATED:20250625T185707Z
LAST-MODIFIED:20250704T190316Z
UID:10000782-1752001200-1752008400@haabproject.com
SUMMARY:Wellness Talks: The Frequency of Change
DESCRIPTION:A collaboration between paando and Haab. \nWe live in a time of constant transition. Change is no longer the exception—it’s the \nfrequency. Learning to adapt without losing our inner compass has become essential. \nIn this edition of Wellness Talks\, we explore how to navigate change through a holistic \nlens—mind\, body\, and spirit. Three expert guides will share their insights through short\, \nvisual\, and impactful presentations\, designed to inspire reflection and spark \ntransformation. A dynamic\, thought-provoking experience for those seeking new tools to \nnourish their journey of self-awareness\, well-being\, and growth. \nFeaturing: \nMoni Durán: Human Design specialist \nhttps://www.instagram.com/moni__duran/ \nGetting to know yourself and understanding how you operate is key to making aligned \ndecisions during times of change. Human Design can become your inner compass in \nmoments of transition. \nDr. Rafa López: Medical doctor\, psychiatrist & mental health educator \nhttps://www.instagram.com/rafalopezdr/ \nUnderstanding how the mind responds to change. Practical tools to move through fear\, \nanxiety\, and uncertainty. \nTahi Ricart: Acupuncturist & Healer \nhttps://www.instagram.com/tahipuntura/Turning the stress of change into vital energy. \nTahi offers a body-centered approach to reconnect with your core when everything around you feels in motion.
URL:https://haabproject.com/event/wellness-talks-the-frequency-of-change-2/
LOCATION:HAAB\, Amsterdam 255\, CDMX\, Ciudad de México\, 06100\, Mexico
CATEGORIES:Wellness
ATTACH;FMTTYPE=image/jpeg:https://haabproject.com/wp-content/uploads/2025/06/PAANDO-WEB.jpg
END:VEVENT
BEGIN:VEVENT
DTSTART;TZID=America/Mexico_City:20250709T193000
DTEND;TZID=America/Mexico_City:20250709T213000
DTSTAMP:20260419T155717
CREATED:20250619T184205Z
LAST-MODIFIED:20250619T184205Z
UID:10000774-1752089400-1752096600@haabproject.com
SUMMARY:PSYCHOTROPIC BREATHWORK
DESCRIPTION:Un estado mental fuera de lo común\, por medio de la respiración rápida y controlada.
URL:https://haabproject.com/event/psychotropic-breathwork-31/
LOCATION:Amsterdam 255\, CDMX\, Ciudad de México\, 06100\, Mexico
CATEGORIES:Bienestar,Psychotropic Breathwork,Respiración psicotrópica,Wellness
ATTACH;FMTTYPE=image/jpeg:https://haabproject.com/wp-content/uploads/2025/06/PSYCHOTROPIC-10-WEB.jpg
END:VEVENT
BEGIN:VEVENT
DTSTART;TZID=America/Mexico_City:20250712T110000
DTEND;TZID=America/Mexico_City:20250712T133000
DTSTAMP:20260419T155717
CREATED:20250619T185859Z
LAST-MODIFIED:20250619T185859Z
UID:10000775-1752318000-1752327000@haabproject.com
SUMMARY:Inmersión en Hielos
DESCRIPTION:Breathwork  is a tool that alters your state of consciousness to reach places in your mind that are typically inaccessible\, using only your breath. The session serves as a catalyst to bring forth emotional\, cognitive\, and physical aspects of awareness\, reducing stress\, reprogramming behaviors\, and optimizing mental health.  We will accompany the process with a cold plunge to use the breath as a source of calm in vulnerable situations and to strengthen the resilience muscle of our mind. Come and enjoy a transcendental experience with us! \nIcecoldture and Colectivo Breathwork invite you to engage in this experience to deepen your understanding of the technology of your body.
URL:https://haabproject.com/event/inmersion-en-hielos-4/
LOCATION:HAAB\, Amsterdam 255\, CDMX\, Ciudad de México\, 06100\, Mexico
CATEGORIES:Bienestar,Wellness
ATTACH;FMTTYPE=image/jpeg:https://haabproject.com/wp-content/uploads/2025/06/HIELO-7-WEB.jpg
END:VEVENT
END:VCALENDAR