BEGIN:VCALENDAR
VERSION:2.0
PRODID:-//HAAB Project - ECPv6.15.20//NONSGML v1.0//EN
CALSCALE:GREGORIAN
METHOD:PUBLISH
X-WR-CALNAME:HAAB Project
X-ORIGINAL-URL:https://haabproject.com
X-WR-CALDESC:Events for HAAB Project
REFRESH-INTERVAL;VALUE=DURATION:PT1H
X-Robots-Tag:noindex
X-PUBLISHED-TTL:PT1H
BEGIN:VTIMEZONE
TZID:America/Mexico_City
BEGIN:STANDARD
TZOFFSETFROM:-0600
TZOFFSETTO:-0600
TZNAME:CST
DTSTART:20230101T000000
END:STANDARD
END:VTIMEZONE
BEGIN:VEVENT
DTSTART;TZID=America/Mexico_City:20241012T110000
DTEND;TZID=America/Mexico_City:20241012T130000
DTSTAMP:20260420T233835
CREATED:20241001T051808Z
LAST-MODIFIED:20241001T051808Z
UID:10000635-1728730800-1728738000@haabproject.com
SUMMARY:Sábados Conscientes: Hielos
DESCRIPTION:Icecoldture and Colectivo Breathwork invite you to engage in this experience to deepen your understanding of the technology of your body.
URL:https://haabproject.com/event/sabados-conscientes-hielos/
LOCATION:HAAB\, Amsterdam 255\, CDMX\, Ciudad de México\, 06100\, Mexico
CATEGORIES:Bienestar,Wellness
ATTACH;FMTTYPE=image/jpeg:https://haabproject.com/wp-content/uploads/2024/09/HIELO-12-WEB.jpg
END:VEVENT
END:VCALENDAR