BEGIN:VCALENDAR
VERSION:2.0
PRODID:-//HAAB Project - ECPv6.15.20//NONSGML v1.0//EN
CALSCALE:GREGORIAN
METHOD:PUBLISH
X-WR-CALNAME:HAAB Project
X-ORIGINAL-URL:https://haabproject.com
X-WR-CALDESC:Events for HAAB Project
REFRESH-INTERVAL;VALUE=DURATION:PT1H
X-Robots-Tag:noindex
X-PUBLISHED-TTL:PT1H
BEGIN:VTIMEZONE
TZID:America/Mexico_City
BEGIN:DAYLIGHT
TZOFFSETFROM:-0600
TZOFFSETTO:-0500
TZNAME:CDT
DTSTART:20220403T080000
END:DAYLIGHT
BEGIN:STANDARD
TZOFFSETFROM:-0500
TZOFFSETTO:-0600
TZNAME:CST
DTSTART:20221030T070000
END:STANDARD
END:VTIMEZONE
BEGIN:VEVENT
DTSTART;TZID=America/Mexico_City:20231018T183000
DTEND;TZID=America/Mexico_City:20231018T210000
DTSTAMP:20260422T160336
CREATED:20230919T203346Z
LAST-MODIFIED:20230919T203346Z
UID:10000284-1697653800-1697662800@haabproject.com
SUMMARY:SPIRIT FLIGHT | A death contemplation
DESCRIPTION:It is truly surprising what a death contemplation process can unlock. \nWe come on earth to practice impermanence and detachment – it’s the soul’s biggest lesson in letting go. \nStill\, we don’t want to think that something will finish\, and we try to hold on as much as we can\, to the people in our lives\, to our jobs\, to the familiar… we even deny our mortality\, acting like we will be here forever. \nBut the more disconnected we are from the concept of death and the energy of change\, the more disconnected we are from life. When we befriend death\, we live life fully.
URL:https://haabproject.com/event/spirit-flight-a-death-contemplation/
LOCATION:Amsterdam 255\, CDMX\, Ciudad de México\, 06100\, Mexico
CATEGORIES:Wellness
ATTACH;FMTTYPE=image/png:https://haabproject.com/wp-content/uploads/2023/09/Spirit-Flight-Wix.png
END:VEVENT
END:VCALENDAR