BEGIN:VCALENDAR
VERSION:2.0
PRODID:-//HAAB Project - ECPv6.15.20//NONSGML v1.0//EN
CALSCALE:GREGORIAN
METHOD:PUBLISH
X-WR-CALNAME:HAAB Project
X-ORIGINAL-URL:https://haabproject.com
X-WR-CALDESC:Events for HAAB Project
REFRESH-INTERVAL;VALUE=DURATION:PT1H
X-Robots-Tag:noindex
X-PUBLISHED-TTL:PT1H
BEGIN:VTIMEZONE
TZID:America/Mexico_City
BEGIN:STANDARD
TZOFFSETFROM:-0600
TZOFFSETTO:-0600
TZNAME:CST
DTSTART:20250101T000000
END:STANDARD
END:VTIMEZONE
BEGIN:VEVENT
DTSTART;TZID=America/Mexico_City:20260117T110000
DTEND;TZID=America/Mexico_City:20260117T133000
DTSTAMP:20260419T190455
CREATED:20251228T031910Z
LAST-MODIFIED:20251228T031910Z
UID:10000869-1768647600-1768656600@haabproject.com
SUMMARY:IMMERSIVE WELLNESS DAY
DESCRIPTION:Nuestro taller te enseñará toda la ciencia y métodos para romper los límites de lo que crees posible\, darle un reset a tu cuerpo (desinflamación\, disminución de dolor\, aceleración de la recuperación deportiva\, entre  otros)\, y para optimizar tu rendimiento. \nPrograma:\n1. Abriremos con una sesión de Animal Flow para activar a tu cuerpo\n2. Taller con toda la info y data de la ciencia de la regulación del sistema nervioso\, incluyendo biomecánica y bioquímica de la respiración e inmersiones en hielo\, y los beneficios de ambas prácticas\n3. Sesión de respiración consciente para conectar con tu espíritu y optimizar tu rendimiento diario\n4. Practicaremos meditaciones para colocarte en estados de paz y visualización efectiva\n5. Pondrás en práctica la resiliencia de tu mente y tu capacidad de enfrentar la adversidad realizandoinmersiones en hielo \nNuestro IMMERSIVE WELLNESS DAY\,  es una experiencia diferente para alinear tu cuerpo\, mente y espíritu. Combinaremos las prácticas de movimiento\, meditación\, breathwork\, e inmersión en hielo.
URL:https://haabproject.com/event/immersive-wellness-day-3/
LOCATION:HAAB\, Amsterdam 255\, CDMX\, Ciudad de México\, 06100\, Mexico
CATEGORIES:Bienestar,Wellness
ATTACH;FMTTYPE=image/jpeg:https://haabproject.com/wp-content/uploads/2025/12/HIELOS-WEB.jpg
END:VEVENT
BEGIN:VEVENT
DTSTART;TZID=America/Mexico_City:20260222T093000
DTEND;TZID=America/Mexico_City:20260222T140000
DTSTAMP:20260419T190455
CREATED:20260127T205956Z
LAST-MODIFIED:20260203T211922Z
UID:10000884-1771752600-1771768800@haabproject.com
SUMMARY:Stargate Workshop: “Recordando quién eres”
DESCRIPTION:Hay momentos en la vida en los que algo dentro de ti sabe que es tiempo de detenerte\, escuchar y volver a lo esencial. \nEste workshop Stargate nace para acompañar ese momento.\nStargate es una práctica de conciencia utilizada por miles de personas en todo el mundo\, que permite entrar en un espacio profundo de amor\, conexión interior\, claridad y coherencia. No se trata de buscar fuera ni de creer en algo nuevo\, sino de recordar quién eres más allá del ruido diario. Y dentro de ese recuerdo están tu propio poder y capacidades únicas que reside en ti. \nEn este encuentro vivirás una experiencia guiada con meditaciones Stargate\, donde se hacen llamados a conciencias de maestros\, seres de luz y activaciones energéticas. Y trabajaremos todos juntos con el único Stargate físico en México\, de 1.80 metros\, que funciona como un ancla y punto de enfoque para el trabajo interior.\nNo es un evento teórico ni una experiencia superficial. \nEs un espacio íntimo para volver a ti\, integrar lo vivido y llevar esa claridad a tu vida cotidiana. Porque el Stargate está aquí para ayudar a la expansión de la conciencia humana. \nSi sientes el llamado\, no es casualidad. \nExperiencia guiada por Gabriel Ángel\, Facilitador Internacional Stargate.\nLos espacios son limitados.
URL:https://haabproject.com/event/stargate-workshop-recordando-quien-eres/
LOCATION:HAAB\, Amsterdam 255\, CDMX\, Ciudad de México\, 06100\, Mexico
CATEGORIES:Wellness
ATTACH;FMTTYPE=image/jpeg:https://haabproject.com/wp-content/uploads/2026/01/STARGATE-WEB.jpg
END:VEVENT
BEGIN:VEVENT
DTSTART;TZID=America/Mexico_City:20260314T110000
DTEND;TZID=America/Mexico_City:20260314T130000
DTSTAMP:20260419T190455
CREATED:20260225T030925Z
LAST-MODIFIED:20260225T030925Z
UID:10000893-1773486000-1773493200@haabproject.com
SUMMARY:Workshop: Face Yoga Reset facial y activación consciente.
DESCRIPTION:Una experiencia práctica e inmersiva que explora la conexión entre las emociones\, el rostro y el cerebro. A lo largo de la sesión\, descubrirás cómo la tensión facial\, los gestos y la postura influyen en tu sistema nervioso\, tu expresión y tu energía. \nTrabajaremos el rostro como un mapa vivo: liberarás tensiones acumuladas\, activarás el sistema linfático y aplicarás técnicas de tonificación consciente para reeducar los músculos faciales y revitalizar tu expresión desde dentro hacia afuera. \nUn espacio íntimo donde la técnica se encuentra con la presencia\, y del que saldrás con herramientas claras para integrar el Face Yoga en tu rutina diaria y una nueva forma de mirarte: más despierta y conectada contigo. \nGuiado por Alejandra Andreu\, terapeuta certificada en Yoga Facial\, exploraremos la ciencia y la energía detrás de cada movimiento: cómo tus gestos impactan tu cerebro y cómo el rejuvenecimiento comienza con regulación y consciencia. \nAdemás\, el encuentro se complementará con una propuesta de gastroconsciencia\, diseñada especialmente para acompañar el proceso\, que sumará una preparación ligera pensada desde el ritual y la atención plena. \nUn workshop para quienes sienten curiosidad por el bienestar consciente y la reeducación facial.
URL:https://haabproject.com/event/workshop-face-yoga-reset-facial-y-activacion-consciente/
LOCATION:HAAB\, Amsterdam 255\, CDMX\, Ciudad de México\, 06100\, Mexico
CATEGORIES:Wellness
ATTACH;FMTTYPE=image/jpeg:https://haabproject.com/wp-content/uploads/2026/02/FACE-YOGA-APP-2.jpg
END:VEVENT
END:VCALENDAR