BEGIN:VCALENDAR
VERSION:2.0
PRODID:-//HAAB Project - ECPv6.15.20//NONSGML v1.0//EN
CALSCALE:GREGORIAN
METHOD:PUBLISH
X-WR-CALNAME:HAAB Project
X-ORIGINAL-URL:https://haabproject.com
X-WR-CALDESC:Events for HAAB Project
REFRESH-INTERVAL;VALUE=DURATION:PT1H
X-Robots-Tag:noindex
X-PUBLISHED-TTL:PT1H
BEGIN:VTIMEZONE
TZID:America/Mexico_City
BEGIN:STANDARD
TZOFFSETFROM:-0600
TZOFFSETTO:-0600
TZNAME:CST
DTSTART:20230101T000000
END:STANDARD
END:VTIMEZONE
BEGIN:VEVENT
DTSTART;TZID=America/Mexico_City:20240604T193000
DTEND;TZID=America/Mexico_City:20240604T213000
DTSTAMP:20260422T160859
CREATED:20240524T201459Z
LAST-MODIFIED:20240524T201459Z
UID:10000506-1717529400-1717536600@haabproject.com
SUMMARY:PSYCHOTROPIC BREATHWORK
DESCRIPTION:Un estado mental fuera de lo común\, por medio de la respiración rápida y controlada.
URL:https://haabproject.com/event/psychotropic-breathwork-18/
LOCATION:Amsterdam 255\, CDMX\, Ciudad de México\, 06100\, Mexico
CATEGORIES:Psychotropic Breathwork,Wellness
ATTACH;FMTTYPE=image/jpeg:https://haabproject.com/wp-content/uploads/2024/05/Self-Defense-FLYER-WEB.jpg
END:VEVENT
BEGIN:VEVENT
DTSTART;TZID=America/Mexico_City:20240608T090000
DTEND;TZID=America/Mexico_City:20240608T103000
DTSTAMP:20260422T160859
CREATED:20240524T205335Z
LAST-MODIFIED:20240524T205335Z
UID:10000504-1717837200-1717842600@haabproject.com
SUMMARY:Sábados Conscientes Chakra Vinyasa
DESCRIPTION:A través de la práctica de respiración\, posturas y meditación sintonizamos con las cualidades del agua\, activamos nuestro segundo chakra para desbloquear nuestra energía creativa\, permitiéndonos sentir y fluir con la vida
URL:https://haabproject.com/event/sabados-conscientes-chakra-vinyasa/
LOCATION:Amsterdam 255\, CDMX\, Ciudad de México\, 06100\, Mexico
CATEGORIES:Sábados Conscientes,Wellness
ATTACH;FMTTYPE=image/jpeg:https://haabproject.com/wp-content/uploads/2024/05/YOGA-ENRAIZAR-FLYER-WEB.jpg
END:VEVENT
BEGIN:VEVENT
DTSTART;TZID=America/Mexico_City:20240616T100000
DTEND;TZID=America/Mexico_City:20240616T120000
DTSTAMP:20260422T160859
CREATED:20240531T003040Z
LAST-MODIFIED:20240531T003040Z
UID:10000509-1718532000-1718539200@haabproject.com
SUMMARY:Self Defense for Women
DESCRIPTION:Únete a una clase de defensa personal exclusiva para mujeres con David\, seguida de 30 minutos de socialización con bebidas y snacks saludables. Aprende técnicas de defensa personal y trabaja tus abdominales en el barrio de Amsterdam Hipodromo\, y luego disfruta de un delicioso desayuno.
URL:https://haabproject.com/event/self-defense-for-women/
LOCATION:Amsterdam 255\, CDMX\, Ciudad de México\, 06100\, Mexico
CATEGORIES:Wellness
ATTACH;FMTTYPE=image/jpeg:https://haabproject.com/wp-content/uploads/2024/05/Self-Defense-FLYER-WEB-3.jpg
END:VEVENT
BEGIN:VEVENT
DTSTART;TZID=America/Mexico_City:20240622T093000
DTEND;TZID=America/Mexico_City:20240622T110000
DTSTAMP:20260422T160859
CREATED:20240523T033956Z
LAST-MODIFIED:20240523T033956Z
UID:10000503-1719048600-1719054000@haabproject.com
SUMMARY:Sábados Conscientes Animal Flow
DESCRIPTION:Animal Flow es un entrenamiento que combina movimientos cuadrúpedos y locomociones  con ejercicios de fuerza y flexibilidad\, enfocándose en\nmejorar la movilidad del animal humano\, la estabilidad y la\ncoordinación del cuerpo de manera dinámica y divertida.
URL:https://haabproject.com/event/__trashed-2/
LOCATION:Amsterdam 255\, CDMX\, Ciudad de México\, 06100\, Mexico
CATEGORIES:Sábados Conscientes,Wellness
ATTACH;FMTTYPE=image/jpeg:https://haabproject.com/wp-content/uploads/2024/05/ANIMAL-FLOW-FLYER-WEB.jpg
END:VEVENT
BEGIN:VEVENT
DTSTART;TZID=America/Mexico_City:20240706T090000
DTEND;TZID=America/Mexico_City:20240706T103000
DTSTAMP:20260422T160859
CREATED:20240626T174916Z
LAST-MODIFIED:20240626T174916Z
UID:10000577-1720256400-1720261800@haabproject.com
SUMMARY:Sábados Conscientes Moving
DESCRIPTION:Explora “Moving”\, una clase multinivel diseñada para enseñarte a reconocer y aprovechar la extraordinaria capacidad de tu cuerpo para moverse con fluidez y conciencia. A través de dispositivos fundamentados en los principios de Yoga y Danza\, podrás cultivar tu habilidad natural de movimiento\, mantener tu cuerpo activo y reducir el riesgo de enfermedades asociadas con la inactividad física y hábitos sedentarios.
URL:https://haabproject.com/event/sabados-conscientes-moving-2-2/
LOCATION:Amsterdam 255\, CDMX\, Ciudad de México\, 06100\, Mexico
CATEGORIES:Sábados Conscientes,Wellness
ATTACH;FMTTYPE=image/jpeg:https://haabproject.com/wp-content/uploads/2024/06/MOVING-WEB.jpg
END:VEVENT
BEGIN:VEVENT
DTSTART;TZID=America/Mexico_City:20240709T193000
DTEND;TZID=America/Mexico_City:20240709T213000
DTSTAMP:20260422T160859
CREATED:20240624T182647Z
LAST-MODIFIED:20240624T182647Z
UID:10000567-1720553400-1720560600@haabproject.com
SUMMARY:PSYCHOTROPIC BREATHWORK
DESCRIPTION:Un estado mental fuera de lo común\, por medio de la respiración rápida y controlada.
URL:https://haabproject.com/event/psychotropic-breathwork-19/
LOCATION:Amsterdam 255\, CDMX\, Ciudad de México\, 06100\, Mexico
CATEGORIES:Psychotropic Breathwork,Wellness
ATTACH;FMTTYPE=image/jpeg:https://haabproject.com/wp-content/uploads/2024/06/PSYCHOTROPIC-9-JUL-WEB-1.jpg
END:VEVENT
BEGIN:VEVENT
DTSTART;TZID=America/Mexico_City:20240717T200000
DTEND;TZID=America/Mexico_City:20240717T223000
DTSTAMP:20260422T160859
CREATED:20240702T222650Z
LAST-MODIFIED:20240702T222650Z
UID:10000580-1721246400-1721255400@haabproject.com
SUMMARY:Blue Lotus & Sound con Thea
DESCRIPTION:A Cacao-infused meditation guided by music\, visualization\, sound &amp; peaceful self-realization. \nBlue Lotus  works as a vehicle of emotions and sensitivity\, and with the heart as the main motor it can take us to deep states of body relaxation and creativity\, integrating visualization\, music and sound\, brain speed will relax as well\, navigating a liminal journey between reality and dreams where higher states of consciousness are activated\, anxiety and stress relieves\, and physical body recalibrates. \nSchedule \n8:00 pm – 8:30 Reception \n8:30 pm -10:15 Blue Lotus & Sound Liminal Journey \nBring Comfortable warm cloth \nEye band if possible \nPen & Note Book for journaling. \nLINK FOR TICKETS: \nhttps://buytickets.at/loveacademy/1306385/r/haab
URL:https://haabproject.com/event/blue-lotus-sound-con-adan-v/
LOCATION:Amsterdam 255\, CDMX\, Ciudad de México\, 06100\, Mexico
CATEGORIES:Social,Wellness
ATTACH;FMTTYPE=image/jpeg:https://haabproject.com/wp-content/uploads/2024/07/BLUE-LOTUS-WEB.jpg
END:VEVENT
BEGIN:VEVENT
DTSTART;TZID=America/Mexico_City:20240727T093000
DTEND;TZID=America/Mexico_City:20240727T110000
DTSTAMP:20260422T160859
CREATED:20240626T161124Z
LAST-MODIFIED:20240724T232340Z
UID:10000582-1722072600-1722078000@haabproject.com
SUMMARY:Sábados Conscientes Animal Flow
DESCRIPTION:Animal Flow es un entrenamiento que combina movimientos cuadrúpedos y locomociones  con ejercicios de fuerza y flexibilidad\, enfocándose en mejorar la movilidad del animal humano\, la estabilidad y la\ncoordinación del cuerpo de manera dinámica y divertida.
URL:https://haabproject.com/event/sabados-conscientes-animal-flow-2-3/
LOCATION:Amsterdam 255\, CDMX\, Ciudad de México\, 06100\, Mexico
CATEGORIES:Sábados Conscientes,Wellness
ATTACH;FMTTYPE=image/jpeg:https://haabproject.com/wp-content/uploads/2024/06/ANIMAL-FLOW-WEB.jpg
END:VEVENT
BEGIN:VEVENT
DTSTART;TZID=America/Mexico_City:20240807T193000
DTEND;TZID=America/Mexico_City:20240807T213000
DTSTAMP:20260422T160859
CREATED:20240729T160900Z
LAST-MODIFIED:20240729T222036Z
UID:10000599-1723059000-1723066200@haabproject.com
SUMMARY:PSYCHOTROPIC BREATHWORK
DESCRIPTION:Un estado mental fuera de lo común\, por medio de la respiración rápida y controlada.
URL:https://haabproject.com/event/psychotropic-breathwork-20/
LOCATION:Amsterdam 255\, CDMX\, Ciudad de México\, 06100\, Mexico
CATEGORIES:Psychotropic Breathwork,Wellness
ATTACH;FMTTYPE=image/jpeg:https://haabproject.com/wp-content/uploads/2024/07/PSYCHOTROPIC-9-JUL-WEB-1.jpg
END:VEVENT
BEGIN:VEVENT
DTSTART;TZID=America/Mexico_City:20240810T110000
DTEND;TZID=America/Mexico_City:20240810T133000
DTSTAMP:20260422T160859
CREATED:20240729T194129Z
LAST-MODIFIED:20240729T195600Z
UID:10000602-1723287600-1723296600@haabproject.com
SUMMARY:Vibin’ Shibari
DESCRIPTION:Shibari is an ancient Japanese practice which involves tying the body with natural fiber ropes meant for physical\, emotional and spiritual delight as well as deepening the connection with oneself and other partners. \nThis workshop takes the basics of Shibari incorporating the use of other pleasure accessories from a Mexican and woman built brand NUD to broaden our horizons on conscious eroticism. \nSchedule: \n10:30 11:00 – Reception \n 11:00 – 13:00 – Shibari practice \n13:00 – 13:30 – Q&A \nBring comfortable clothing\, preferably activewear \nTicket includes: \n\n\nNUD Vibrator of your choice \n\n\nShibari cotton rope \n\n\nEye mask \n\n\nTwo hour workshop \n\n\n 
URL:https://haabproject.com/event/vibin-shibari/
LOCATION:HAAB\, Amsterdam 255\, CDMX\, Ciudad de México\, 06100\, Mexico
CATEGORIES:Bienestar,Wellness
ATTACH;FMTTYPE=image/jpeg:https://haabproject.com/wp-content/uploads/2024/07/SHIBARI-WEB.jpg
END:VEVENT
BEGIN:VEVENT
DTSTART;TZID=America/Mexico_City:20240817T090000
DTEND;TZID=America/Mexico_City:20240817T103000
DTSTAMP:20260422T160859
CREATED:20240729T231045Z
LAST-MODIFIED:20240729T231045Z
UID:10000610-1723885200-1723890600@haabproject.com
SUMMARY:Sábados Conscientes Moving
DESCRIPTION:Explora “Moving”\, una clase multinivel diseñada para enseñarte a reconocer y aprovechar la extraordinaria capacidad de tu cuerpo para moverse con fluidez y conciencia. A través de dispositivos fundamentados en los principios de Yoga y Danza\, podrás cultivar tu habilidad natural de movimiento\, mantener tu cuerpo activo y reducir el riesgo de enfermedades asociadas con la inactividad física y hábitos sedentarios.
URL:https://haabproject.com/event/sabados-conscientes-moving-2/
LOCATION:Amsterdam 255\, CDMX\, Ciudad de México\, 06100\, Mexico
CATEGORIES:Sábados Conscientes,Wellness
ATTACH;FMTTYPE=image/jpeg:https://haabproject.com/wp-content/uploads/2024/07/MOVING-WEB.jpg
END:VEVENT
BEGIN:VEVENT
DTSTART;TZID=America/Mexico_City:20240817T163000
DTEND;TZID=America/Mexico_City:20240817T203000
DTSTAMP:20260422T160859
CREATED:20240729T230956Z
LAST-MODIFIED:20240729T230956Z
UID:10000605-1723912200-1723926600@haabproject.com
SUMMARY:Collective Flow with Andrei Matorin and Ana Rebolledo
DESCRIPTION:Embark on a transformative movement workshop led by Ana Rebolledo with live music by Andrei Matorin. \nThis immersive\, participatory workshop transcends the boundaries of “me\, you\, us” by fostering profound connection through the power of music and authentic expression. \nGuided by Ana Rebolledo\, you’ll explore embodied creativity and body awareness through a unique movement experience. As the mesmerizing melodies and grooves created live by Andrei Matorin weave their magic\, allow yourself to release resistance to connection and move freely.  Through playfulness and exploration\, rediscover the joy of expressing yourself. \nUnleash your authentic self in a safe space\, fostering interpersonal connection and openness.  Learn to explore intimacy and reconnect with the forgotten language of your body through movement. \nDon’t miss this unique opportunity to awaken your voice and move joyously with others. \nSpace is limited! \n 
URL:https://haabproject.com/event/collective-flow-with-andrei-matorin-and-ana-rebolledo/
LOCATION:HAAB\, Amsterdam 255\, CDMX\, Ciudad de México\, 06100\, Mexico
CATEGORIES:Bienestar,Wellness
ATTACH;FMTTYPE=image/jpeg:https://haabproject.com/wp-content/uploads/2024/07/COLLECTIVE-FLOW-WEB.jpg
END:VEVENT
BEGIN:VEVENT
DTSTART;TZID=America/Mexico_City:20240824T100000
DTEND;TZID=America/Mexico_City:20240824T233000
DTSTAMP:20260422T160859
CREATED:20240729T203332Z
LAST-MODIFIED:20240729T214212Z
UID:10000609-1724493600-1724542200@haabproject.com
SUMMARY:Sábados Conscientes Melodies of Self-Love
DESCRIPTION:A través de una meditación y sound healing\, liberate y renueva tu energía.
URL:https://haabproject.com/event/sabados-conscientes-melodies-of-self-love/
LOCATION:HAAB\, Amsterdam 255\, CDMX\, Ciudad de México\, 06100\, Mexico
CATEGORIES:Bienestar,Wellness
ATTACH;FMTTYPE=image/jpeg:https://haabproject.com/wp-content/uploads/2024/07/MELODIE-OF-SELF-LOVE-WEB.jpg
END:VEVENT
BEGIN:VEVENT
DTSTART;TZID=America/Mexico_City:20240824T180000
DTEND;TZID=America/Mexico_City:20240824T220000
DTSTAMP:20260422T160859
CREATED:20240802T224452Z
LAST-MODIFIED:20240802T224645Z
UID:10000611-1724522400-1724536800@haabproject.com
SUMMARY:BAILAROS x HEART MOVES
DESCRIPTION:LINK FOR TICKETS: https://www.tickettailor.com/events/theauracompany/1339512 \n06.00 pm – Doors Open \nInitial Cacao Activation and Face Painting by Johana and Lorena \n06.15 pm – Voice Activation by Eddy\, Deci\, Angie\, Thea\, Andrés & Luis \n06.45 pm – Movement Meditation by Aliza Tuachi \n07.00 pm – Heart Moves Dance Circle by Vandana Hart \n08.00pm – Ecstatic Dance DJ Set by Magisus \n09.30 – Sound Healing by Eddy\, Thea & Deci \n9.45 pm – Closing Circle \n10.00 pm – Doors close
URL:https://haabproject.com/event/bailaros-x-heart-moves-2/
LOCATION:Amsterdam 255\, CDMX\, Ciudad de México\, 06100\, Mexico
CATEGORIES:Social,Wellness
ATTACH;FMTTYPE=image/jpeg:https://haabproject.com/wp-content/uploads/2024/08/BAILAROS-X-HEART-MOVES-WEB-1.jpg
END:VEVENT
BEGIN:VEVENT
DTSTART;TZID=America/Mexico_City:20240911T193000
DTEND;TZID=America/Mexico_City:20240911T213000
DTSTAMP:20260422T160859
CREATED:20240825T073415Z
LAST-MODIFIED:20240912T003631Z
UID:10000626-1726083000-1726090200@haabproject.com
SUMMARY:PSYCHOTROPIC BREATHWORK
DESCRIPTION:Un estado mental fuera de lo común\, por medio de la respiración rápida y controlada.
URL:https://haabproject.com/event/psychotropic-breathwork-21/
LOCATION:Amsterdam 255\, CDMX\, Ciudad de México\, 06100\, Mexico
CATEGORIES:Psychotropic Breathwork,Wellness
ATTACH;FMTTYPE=image/jpeg:https://haabproject.com/wp-content/uploads/2024/08/PSYCHOTROPIC-11-WEB.jpg
END:VEVENT
BEGIN:VEVENT
DTSTART;TZID=America/Mexico_City:20240918T190000
DTEND;TZID=America/Mexico_City:20240918T203000
DTSTAMP:20260422T160859
CREATED:20240825T062506Z
LAST-MODIFIED:20240910T175043Z
UID:10000619-1726686000-1726691400@haabproject.com
SUMMARY:INNERMOTION: Immersive Mindful Movement
DESCRIPTION:Sumérgete en una nueva secuencia de movimiento de 90 minutos diseñada para activar tu cuerpo\, expandir tu mente y elevar tu espíritu. Disfruta de una experiencia exclusiva que combina un flujo dinámico con mindfulness\, fitness\, danza\, breathwork y prácticas holísticas\, guiándote en un viaje inmersivo con música de alta frecuencia\, todo potenciado por audífonos de alta fidelidad
URL:https://haabproject.com/event/innermotion-immersive-mindful-movement/
LOCATION:HAAB\, Amsterdam 255\, CDMX\, Ciudad de México\, 06100\, Mexico
CATEGORIES:Bienestar,Wellness
ATTACH;FMTTYPE=image/jpeg:https://haabproject.com/wp-content/uploads/2024/08/INNERMOTION.jpg
END:VEVENT
BEGIN:VEVENT
DTSTART;TZID=America/Mexico_City:20240921T100000
DTEND;TZID=America/Mexico_City:20240921T120000
DTSTAMP:20260422T160859
CREATED:20240825T061832Z
LAST-MODIFIED:20240825T061832Z
UID:10000624-1726912800-1726920000@haabproject.com
SUMMARY:Emotional Awareness Practice
DESCRIPTION:Esta masterclass integra principios del yoga\, mindfulness y medicina china para proporcionar un enfoque holístico en la exploración\, comprensión y regulación de las emociones. A través de una práctica profunda y consciente\, aprenderás a identificar y gestionar tus estados emocionales y cultivar una mayor armonía en tu vida diaria. Con Alessandra Cittadin y Andrea Galvan.
URL:https://haabproject.com/event/emotional-awareness-practice/
LOCATION:HAAB\, Amsterdam 255\, CDMX\, Ciudad de México\, 06100\, Mexico
CATEGORIES:Bienestar,Wellness
ATTACH;FMTTYPE=image/jpeg:https://haabproject.com/wp-content/uploads/2024/08/EMOTIONAL-WEB.jpg
END:VEVENT
BEGIN:VEVENT
DTSTART;TZID=America/Mexico_City:20241012T110000
DTEND;TZID=America/Mexico_City:20241012T130000
DTSTAMP:20260422T160859
CREATED:20241001T051808Z
LAST-MODIFIED:20241001T051808Z
UID:10000635-1728730800-1728738000@haabproject.com
SUMMARY:Sábados Conscientes: Hielos
DESCRIPTION:Icecoldture and Colectivo Breathwork invite you to engage in this experience to deepen your understanding of the technology of your body.
URL:https://haabproject.com/event/sabados-conscientes-hielos/
LOCATION:HAAB\, Amsterdam 255\, CDMX\, Ciudad de México\, 06100\, Mexico
CATEGORIES:Bienestar,Wellness
ATTACH;FMTTYPE=image/jpeg:https://haabproject.com/wp-content/uploads/2024/09/HIELO-12-WEB.jpg
END:VEVENT
BEGIN:VEVENT
DTSTART;TZID=America/Mexico_City:20241020T100000
DTEND;TZID=America/Mexico_City:20241020T120000
DTSTAMP:20260422T160859
CREATED:20241001T052758Z
LAST-MODIFIED:20241001T052758Z
UID:10000648-1729418400-1729425600@haabproject.com
SUMMARY:Women’s Temple
DESCRIPTION:Join us for our Women’s 𝒯ℯ𝓂𝓅𝓁ℯ🌹 \nDance\, as more than just movement\, is a gateway to accessing the depths of our feminine power. Join us for a sacred evening where we weave creativity\, sisterhood\, and embodiment in a unique and unforgettable experience designed to ignite your magnetic radiance. \nThrough the art of dance\, we will journey into the heart of the tantric arts\, using movement as a powerful tool to unlock personal transformation. This practice allows you to explore hidden parts of your being and recalibrate your magic\, inviting you to step fully into your queendom. \nThe evening will be a catalyst for connecting with your inner Eros and embodying the feminine archetypes that live within you. Whether you’re a seasoned dancer or simply seeking a deeper connection with yourself\, this session offers a transformative space to embrace your feminine essence and tap into your most potent force—your feminine power.
URL:https://haabproject.com/event/womens-temple/
LOCATION:HAAB\, Amsterdam 255\, CDMX\, Ciudad de México\, 06100\, Mexico
CATEGORIES:Bienestar,Wellness
ATTACH;FMTTYPE=image/jpeg:https://haabproject.com/wp-content/uploads/2024/09/TEMPLE-WEB.jpg
END:VEVENT
BEGIN:VEVENT
DTSTART;TZID=America/Mexico_City:20241025T080000
DTEND;TZID=America/Mexico_City:20241025T110000
DTSTAMP:20260422T160859
CREATED:20240930T160226Z
LAST-MODIFIED:20240930T160226Z
UID:10000647-1729843200-1729854000@haabproject.com
SUMMARY:Tech Recharge: Breathwork\, Ice Bath & Networking de Alto Impacto
DESCRIPTION:IceColdture y Mary Haberski te invitan a recargar energías y optimizar tu rendimiento con nuestra sesión de respiración consciente\, meditación e inmersión en hielo!\nA medida que la industria tech evoluciona\, hay una creciente conciencia sobre la necesidad de prácticas para combatir el estrés y ansiedad crónicas\, mejorar la productividad\, y priorizar la salud mental y física. Founders\, emprendedores\, y otros actores del mundo tech necesitan formas rápidas y efectivas para recargar energías y mantener un rendimiento óptimo. Este evento inmersivo fusiona prácticas de bienestar de vanguardia con un networking de alto impacto.
URL:https://haabproject.com/event/tech-recharge-breathwork-ice-bath-networking-de-alto-impacto/
LOCATION:HAAB\, Amsterdam 255\, CDMX\, Ciudad de México\, 06100\, Mexico
CATEGORIES:Bienestar,Social,Social,Wellness
ATTACH;FMTTYPE=image/jpeg:https://haabproject.com/wp-content/uploads/2024/09/RECHARGE-WEB.jpg
END:VEVENT
BEGIN:VEVENT
DTSTART;TZID=America/Mexico_City:20241101T190000
DTEND;TZID=America/Mexico_City:20241101T210000
DTSTAMP:20260422T160859
CREATED:20241031T182605Z
LAST-MODIFIED:20241031T182838Z
UID:10000653-1730487600-1730494800@haabproject.com
SUMMARY:Muertxs
DESCRIPTION:Un Ritual para honrar y conectar con la muerte\, con Maite Valverde de Loyola. \nPara miembros o por invitación.
URL:https://haabproject.com/event/muertxs/
LOCATION:HAAB\, Amsterdam 255\, CDMX\, Ciudad de México\, 06100\, Mexico
CATEGORIES:Bienestar,Wellness
ATTACH;FMTTYPE=image/jpeg:https://haabproject.com/wp-content/uploads/2024/10/MUERTXS-1.jpg
END:VEVENT
BEGIN:VEVENT
DTSTART;TZID=America/Mexico_City:20241106T193000
DTEND;TZID=America/Mexico_City:20241106T213000
DTSTAMP:20260422T160859
CREATED:20241031T173328Z
LAST-MODIFIED:20241031T173328Z
UID:10000655-1730921400-1730928600@haabproject.com
SUMMARY:PSYCHOTROPIC BREATHWORK
DESCRIPTION:Un estado mental fuera de lo común\, por medio de la respiración rápida y controlada.
URL:https://haabproject.com/event/psychotropic-breathwork-23/
LOCATION:Amsterdam 255\, CDMX\, Ciudad de México\, 06100\, Mexico
CATEGORIES:Psychotropic Breathwork,Wellness
ATTACH;FMTTYPE=image/jpeg:https://haabproject.com/wp-content/uploads/2024/10/PSYCHOTROPIC-6-WEB.jpg
END:VEVENT
BEGIN:VEVENT
DTSTART;TZID=America/Mexico_City:20241107T193000
DTEND;TZID=America/Mexico_City:20241107T213000
DTSTAMP:20260422T160859
CREATED:20241031T173450Z
LAST-MODIFIED:20241101T131252Z
UID:10000654-1731007800-1731015000@haabproject.com
SUMMARY:INNERMOTION: On the road to ZEN EXPERIENCE
DESCRIPTION:Invitation Only & Members Free \nOn the road to ZEN EXPERIENCE: Sumérgete en una nueva secuencia de movimiento de 90 minutos diseñada para activar tu cuerpo\, expandir tu mente y elevar tu espíritu. Disfruta de una experiencia exclusiva que combina un flujo dinámico con mindfulness\, fitness\, danza\, breathwork y prácticas holísticas\, guiándote en un viaje inmersivo con música de alta frecuencia\, todo potenciado por audífonos de alta fidelidad \n  \nImmersive Mindful Movement
URL:https://haabproject.com/event/innermotion-on-the-road-to-zen-experience/
LOCATION:HAAB\, Amsterdam 255\, CDMX\, Ciudad de México\, 06100\, Mexico
CATEGORIES:Bienestar,Wellness
ATTACH;FMTTYPE=image/jpeg:https://haabproject.com/wp-content/uploads/2024/10/INNERMOTION-WEB-3.jpg
END:VEVENT
BEGIN:VEVENT
DTSTART;TZID=America/Mexico_City:20241115T190000
DTEND;TZID=America/Mexico_City:20241115T220000
DTSTAMP:20260422T160859
CREATED:20241031T170652Z
LAST-MODIFIED:20241031T183832Z
UID:10000661-1731697200-1731708000@haabproject.com
SUMMARY:Sagrado Masculino y Sagrado Femenino
DESCRIPTION:Esta va a ser una platica en donde les platicare la historia e implicaciones de la herida que ha separado nuestra energia masculina de nuestra energia femenina. Esta herida la vivimos todxs tanto individualmente como en nuestras relaciones de pareja. En muchos sentidos es la herida de la que nacen muchas otras heridas (de abandono\, rechazo\, injusticia\, etc.) \nPara contar esta historia vamos a platicar un poco de la historia de “Eras pasadas” como Lemuria y Atlantida (en donde se origino la herida); entonces entenderemos las implicaciones de esta separacion en: \n•⁠ ⁠Los sistemas que sostienen nuestro mundo (politica\, economia\, moral) \n•⁠ ⁠⁠Nuestra Psicologia Individual \n•⁠ ⁠⁠Nuestras Relaciones \nLa platica va a desatar un proceso de sanación para todos los partcipantes que traera como consecuencia un incremento en su vibración\, apertura de corazón y entendimiento de su poder personal. Esto se manifestara principalmente en: \n•⁠ ⁠Sus relaciones personales \n•⁠ ⁠⁠Amor Propio y Autoestima \n•⁠ ⁠⁠Salud mental y emocional
URL:https://haabproject.com/event/sagrado-masculino-y-sagrado-femenino/
LOCATION:HAAB\, Amsterdam 255\, CDMX\, Ciudad de México\, 06100\, Mexico
CATEGORIES:Bienestar,Social,Social,Wellness
ATTACH;FMTTYPE=image/jpeg:https://haabproject.com/wp-content/uploads/2024/10/PEPE-OM-WEB.jpg
END:VEVENT
BEGIN:VEVENT
DTSTART;TZID=America/Mexico_City:20241116T100000
DTEND;TZID=America/Mexico_City:20241116T140000
DTSTAMP:20260422T160859
CREATED:20241031T170003Z
LAST-MODIFIED:20241105T005941Z
UID:10000657-1731751200-1731765600@haabproject.com
SUMMARY:Inner Alchemy: Self-Empowerment with Qigong
DESCRIPTION:Learn Yuan Qigong\, a gentle yet powerful self-help practice that nourishes your whole being: mind\, body\, spirit & heart \nInspired by ancient wisdom teachings\, in this workshop you’ll: \n-learn a qigong routine (like a moving meditation) that you can practice anytime to help you recharge\, recenter & find clarity within \n-learn more about what Qi (life force energy) is & how to use it \n-learn more about the power of the consciousness & its role in transforming your life
URL:https://haabproject.com/event/inner-alchemy-self-empowerment-with-qigong/
LOCATION:HAAB\, Amsterdam 255\, CDMX\, Ciudad de México\, 06100\, Mexico
CATEGORIES:Bienestar,Wellness
ATTACH;FMTTYPE=image/jpeg:https://haabproject.com/wp-content/uploads/2024/10/INNER-ALCHEMY-WEB-2.jpg
END:VEVENT
BEGIN:VEVENT
DTSTART;TZID=America/Mexico_City:20241127T193000
DTEND;TZID=America/Mexico_City:20241127T213000
DTSTAMP:20260422T160859
CREATED:20241031T165319Z
LAST-MODIFIED:20241031T165319Z
UID:10000659-1732735800-1732743000@haabproject.com
SUMMARY:PSYCHOTROPIC BREATHWORK
DESCRIPTION:Un estado mental fuera de lo común\, por medio de la respiración rápida y controlada.
URL:https://haabproject.com/event/psychotropic-breathwork-22/
LOCATION:Amsterdam 255\, CDMX\, Ciudad de México\, 06100\, Mexico
CATEGORIES:Psychotropic Breathwork,Wellness
ATTACH;FMTTYPE=image/jpeg:https://haabproject.com/wp-content/uploads/2024/10/PSYCHOTROPIC-27-WEB.jpg
END:VEVENT
BEGIN:VEVENT
DTSTART;TZID=America/Mexico_City:20241130T110000
DTEND;TZID=America/Mexico_City:20241130T130000
DTSTAMP:20260422T160859
CREATED:20241031T171936Z
LAST-MODIFIED:20241031T171936Z
UID:10000660-1732964400-1732971600@haabproject.com
SUMMARY:Sábados Conscientes: Hielos
DESCRIPTION:Icecoldture and Colectivo Breathwork invite you to engage in this experience to deepen your understanding of the technology of your body.
URL:https://haabproject.com/event/sabados-conscientes-hielos-2/
LOCATION:HAAB\, Amsterdam 255\, CDMX\, Ciudad de México\, 06100\, Mexico
CATEGORIES:Bienestar,Wellness
ATTACH;FMTTYPE=image/jpeg:https://haabproject.com/wp-content/uploads/2024/10/HIELO-30-WEB.jpg
END:VEVENT
BEGIN:VEVENT
DTSTART;TZID=America/Mexico_City:20241202T193000
DTEND;TZID=America/Mexico_City:20241202T213000
DTSTAMP:20260422T160859
CREATED:20241127T232206Z
LAST-MODIFIED:20241127T232206Z
UID:10000668-1733167800-1733175000@haabproject.com
SUMMARY:PSYCHOTROPIC BREATHWORK
DESCRIPTION:Un estado mental fuera de lo común\, por medio de la respiración rápida y controlada.
URL:https://haabproject.com/event/psychotropic-breathwork-24/
LOCATION:Amsterdam 255\, CDMX\, Ciudad de México\, 06100\, Mexico
CATEGORIES:Psychotropic Breathwork,Wellness
ATTACH;FMTTYPE=image/jpeg:https://haabproject.com/wp-content/uploads/2024/11/PSYCHOTROPIC-2-WEB.jpg
END:VEVENT
BEGIN:VEVENT
DTSTART;TZID=America/Mexico_City:20241204T193000
DTEND;TZID=America/Mexico_City:20241204T213000
DTSTAMP:20260422T160859
CREATED:20241025T134057Z
LAST-MODIFIED:20241128T153242Z
UID:10000652-1733340600-1733347800@haabproject.com
SUMMARY:Kundalini Activation With Blanca Puebla
DESCRIPTION:La Activación de Kundalini es una transmisión de energía universal que te guía a redescubrir tu verdadero ser\, es un trabajo energético profundo que tiene el potencial de inducir estados de conciencia trascendentales y permite la activación de tu energía Kundalini o fuerza vital. Esta fuerza nos lleva al desarrollo y evolución espiritual\, y nos libera de bloqueos\, limitaciones y cargas energéticas y emocionales\, abriéndonos a nuestro máximo potencial. Es un método seguro\, natural y gradual para activar y fomentar el despertar de tu propia energía Kundalini.
URL:https://haabproject.com/event/kundalini-activation-with-blanca-puebla/
LOCATION:HAAB\, Amsterdam 255\, CDMX\, Ciudad de México\, 06100\, Mexico
CATEGORIES:Bienestar,Wellness
ATTACH;FMTTYPE=image/jpeg:https://haabproject.com/wp-content/uploads/2024/10/KUNDALINI-WEB-2.jpg
END:VEVENT
BEGIN:VEVENT
DTSTART;TZID=America/Mexico_City:20241208T100000
DTEND;TZID=America/Mexico_City:20241208T120000
DTSTAMP:20260422T160859
CREATED:20241204T221528Z
LAST-MODIFIED:20241205T020635Z
UID:10000675-1733652000-1733659200@haabproject.com
SUMMARY:Fly by ALAYA: El primer encuentro con tu ser
DESCRIPTION:Este evento es una invitación a reconectarte con tu esencia a través del silencio y la introspección. Un espacio de serenidad donde darás el primer paso hacia un encuentro profundo contigo mismo\, cultivando amor\, aceptación y la fuerza necesaria para emprender un viaje transformador.
URL:https://haabproject.com/event/fly-first-love-yourself/
LOCATION:HAAB\, Amsterdam 255\, CDMX\, Ciudad de México\, 06100\, Mexico
CATEGORIES:Bienestar,Wellness
ATTACH;FMTTYPE=image/jpeg:https://haabproject.com/wp-content/uploads/2024/12/FLY-WEB.jpg
END:VEVENT
END:VCALENDAR