BEGIN:VCALENDAR
VERSION:2.0
PRODID:-//HAAB Project - ECPv6.15.20//NONSGML v1.0//EN
CALSCALE:GREGORIAN
METHOD:PUBLISH
X-WR-CALNAME:HAAB Project
X-ORIGINAL-URL:https://haabproject.com
X-WR-CALDESC:Events for HAAB Project
REFRESH-INTERVAL;VALUE=DURATION:PT1H
X-Robots-Tag:noindex
X-PUBLISHED-TTL:PT1H
BEGIN:VTIMEZONE
TZID:America/Mexico_City
BEGIN:STANDARD
TZOFFSETFROM:-0600
TZOFFSETTO:-0600
TZNAME:CST
DTSTART:20240101T000000
END:STANDARD
END:VTIMEZONE
BEGIN:VEVENT
DTSTART;TZID=America/Mexico_City:20250215T120000
DTEND;TZID=America/Mexico_City:20250215T160000
DTSTAMP:20260420T065506
CREATED:20250130T012517Z
LAST-MODIFIED:20250130T031400Z
UID:10000695-1739620800-1739635200@haabproject.com
SUMMARY:Mujeres en Equilibrio
DESCRIPTION:Este evento exclusivo para mujeres comenzará con un desayuno ligero\, creando un ambiente relajado y acogedor. La agenda incluirá una meditación para iniciar el día con calma\, seguida de una plática sobre Pilou y una intervención sobre la energía del dinero\, con un enfoque práctico y empoderador. Será una oportunidad increíble para que las participantes aprendan\, se conecten entre sí y se sientan inspiradas a transformar su relación con ellas mismas\, el dinero y las inversiones. \nEste evento tiene como objetivo dar herramientas valiosas para el crecimiento personal e independencia económica de cada mujer\, dentro de un espacio seguro de apoyo y comunidad.
URL:https://haabproject.com/event/mujeres-en-equilibrio/
LOCATION:HAAB\, Amsterdam 255\, CDMX\, Ciudad de México\, 06100\, Mexico
CATEGORIES:Bienestar,Wellness
ATTACH;FMTTYPE=image/jpeg:https://haabproject.com/wp-content/uploads/2025/01/FLYER-WEB-3.jpg
END:VEVENT
END:VCALENDAR