BEGIN:VCALENDAR
VERSION:2.0
PRODID:-//HAAB Project - ECPv6.15.20//NONSGML v1.0//EN
CALSCALE:GREGORIAN
METHOD:PUBLISH
X-WR-CALNAME:HAAB Project
X-ORIGINAL-URL:https://haabproject.com
X-WR-CALDESC:Events for HAAB Project
REFRESH-INTERVAL;VALUE=DURATION:PT1H
X-Robots-Tag:noindex
X-PUBLISHED-TTL:PT1H
BEGIN:VTIMEZONE
TZID:America/Mexico_City
BEGIN:STANDARD
TZOFFSETFROM:-0600
TZOFFSETTO:-0600
TZNAME:CST
DTSTART:20240101T000000
END:STANDARD
END:VTIMEZONE
BEGIN:VEVENT
DTSTART;TZID=America/Mexico_City:20251004T100000
DTEND;TZID=America/Mexico_City:20251004T133000
DTSTAMP:20260419T092401
CREATED:20250923T181608Z
LAST-MODIFIED:20250926T234738Z
UID:10000818-1759572000-1759584600@haabproject.com
SUMMARY:IMMERSIVE WELLNESS DAY
DESCRIPTION:Nuestro taller te enseñará toda la ciencia y métodos para romper los límites de lo que crees posible\, darle un reset a tu cuerpo (desinflamación\, disminución de dolor\, aceleración de la recuperación deportiva\, entre  otros)\, y para optimizar tu rendimiento. \nNuestro IMMERSIVE WELLNESS DAY\,  es una experiencia diferente para alinear tu cuerpo\, mente y espíritu. Combinaremos las prácticas de movimiento\, meditación\, breathwork\, e inmersión en hielo.
URL:https://haabproject.com/event/taller-de-regulacion-del-sistema-nervioso-breathwork-e-inmersion-en-hielos/
LOCATION:HAAB\, Amsterdam 255\, CDMX\, Ciudad de México\, 06100\, Mexico
CATEGORIES:Wellness
ATTACH;FMTTYPE=image/jpeg:https://haabproject.com/wp-content/uploads/2025/09/IMG_2582.jpeg
END:VEVENT
BEGIN:VEVENT
DTSTART;TZID=America/Mexico_City:20251007T183000
DTEND;TZID=America/Mexico_City:20251007T203000
DTSTAMP:20260419T092401
CREATED:20250925T224530Z
LAST-MODIFIED:20251006T183552Z
UID:10000827-1759861800-1759869000@haabproject.com
SUMMARY:Respira: Naturaleza para tu cuerpo y tu ciudad
DESCRIPTION:TALLER SIN COSTO \nUn taller dinámico donde podrás re-conectar con tu respiración y aprenderás los básicos de como cuidar de tus plantas en casa. Naturaleza como fuente de bienestar\, ciudades verdes y acción comunitaria recorriendo tu ecosistema interior.
URL:https://haabproject.com/event/respira-naturaleza-para-tu-cuerpo-y-tu-ciudad/
LOCATION:HAAB\, Amsterdam 255\, CDMX\, Ciudad de México\, 06100\, Mexico
CATEGORIES:Wellness
ATTACH;FMTTYPE=image/jpeg:https://haabproject.com/wp-content/uploads/2025/09/RESPIRA-WEB.jpg
END:VEVENT
BEGIN:VEVENT
DTSTART;TZID=America/Mexico_City:20251008T193000
DTEND;TZID=America/Mexico_City:20251008T213000
DTSTAMP:20260419T092401
CREATED:20250923T012343Z
LAST-MODIFIED:20251002T162814Z
UID:10000816-1759951800-1759959000@haabproject.com
SUMMARY:Psychotropic Breathwork
DESCRIPTION:Un estado mental fuera de lo común por medio de la respiración rápida controlada.
URL:https://haabproject.com/event/psychotropic-breathwork-34/
LOCATION:HAAB\, Amsterdam 255\, CDMX\, Ciudad de México\, 06100\, Mexico
CATEGORIES:Psychotropic Breathwork,Wellness
ATTACH;FMTTYPE=image/jpeg:https://haabproject.com/wp-content/uploads/2025/09/IMG_2539.jpeg
END:VEVENT
END:VCALENDAR