BEGIN:VCALENDAR
VERSION:2.0
PRODID:-//HAAB Project - ECPv6.15.20//NONSGML v1.0//EN
CALSCALE:GREGORIAN
METHOD:PUBLISH
X-WR-CALNAME:HAAB Project
X-ORIGINAL-URL:https://haabproject.com
X-WR-CALDESC:Events for HAAB Project
REFRESH-INTERVAL;VALUE=DURATION:PT1H
X-Robots-Tag:noindex
X-PUBLISHED-TTL:PT1H
BEGIN:VTIMEZONE
TZID:America/Mexico_City
BEGIN:STANDARD
TZOFFSETFROM:-0600
TZOFFSETTO:-0600
TZNAME:CST
DTSTART:20230101T000000
END:STANDARD
END:VTIMEZONE
BEGIN:VEVENT
DTSTART;TZID=America/Mexico_City:20240114T100000
DTEND;TZID=America/Mexico_City:20240114T130000
DTSTAMP:20260421T165916
CREATED:20240103T220115Z
LAST-MODIFIED:20240103T220115Z
UID:10000339-1705226400-1705237200@haabproject.com
SUMMARY:Shanti Town | Yoga Summit
DESCRIPTION:An event that brings together experts\, professionals and yoga practitioners to explore\, learn and share knowledge\, through discussion panels\, interaction and networking. \nThis space provides an excellent opportunity to delve deeper into yoga theory\, discover new trends in an academic and educational environment\, and connect with people who share the same concerns. \nThe study of theory and philosophy enriches the experience of practice\, allowing for a deeper understanding and effective application of the tools of yoga.
URL:https://haabproject.com/event/shanti-town-yoga-summit/
LOCATION:Amsterdam 255\, CDMX\, Ciudad de México\, 06100\, Mexico
CATEGORIES:Wellness
ATTACH;FMTTYPE=image/png:https://haabproject.com/wp-content/uploads/2024/01/HAAB-WIx-9.png
END:VEVENT
BEGIN:VEVENT
DTSTART;TZID=America/Mexico_City:20240120T100000
DTEND;TZID=America/Mexico_City:20240120T113000
DTSTAMP:20260421T165916
CREATED:20240105T172724Z
LAST-MODIFIED:20240105T172724Z
UID:10000356-1705744800-1705750200@haabproject.com
SUMMARY:"Sábados Conscientes" en Haab - Consciencia en Movimiento
DESCRIPTION:Exploración profunda de la postura\, el equilibrio\, el ritmo\, la coordinación\, la agilidad\, la respiración y la relajación. Nuestro enfoque se centra en establecer una conexión íntima con los elementos esenciales del movimiento corporal\, reflexionando sobre cómo estos conceptos se manifiestan no solo en nuestra fisiología\, sino también en nuestra personalidad y en los hábitos cotidianos que dan forma a nuestra vida.
URL:https://haabproject.com/event/sabados-conscientes-en-haab-consciencia-en-movimiento/
LOCATION:Amsterdam 255\, CDMX\, Ciudad de México\, 06100\, Mexico
CATEGORIES:Wellness
ATTACH;FMTTYPE=image/png:https://haabproject.com/wp-content/uploads/2024/01/HAAB-WIx-11.png
END:VEVENT
END:VCALENDAR