BEGIN:VCALENDAR
VERSION:2.0
PRODID:-//HAAB Project - ECPv6.15.20//NONSGML v1.0//EN
CALSCALE:GREGORIAN
METHOD:PUBLISH
X-WR-CALNAME:HAAB Project
X-ORIGINAL-URL:https://haabproject.com
X-WR-CALDESC:Events for HAAB Project
REFRESH-INTERVAL;VALUE=DURATION:PT1H
X-Robots-Tag:noindex
X-PUBLISHED-TTL:PT1H
BEGIN:VTIMEZONE
TZID:America/Mexico_City
BEGIN:STANDARD
TZOFFSETFROM:-0600
TZOFFSETTO:-0600
TZNAME:CST
DTSTART:20230101T000000
END:STANDARD
END:VTIMEZONE
BEGIN:VEVENT
DTSTART;TZID=America/Mexico_City:20240314T170000
DTEND;TZID=America/Mexico_City:20240314T230000
DTSTAMP:20260423T143012
CREATED:20240228T190505Z
LAST-MODIFIED:20240228T190505Z
UID:10000381-1710435600-1710457200@haabproject.com
SUMMARY:Secret Temple
DESCRIPTION:18:00 – 18:20 pm Cacao Activation\n18:05 – 19:30 – Dakarai\n19:30 – 21:00 – OME\n21:00 – 22:30 – Cosmic Seed ft. Iye Yin Dae\n22:30 – 23:00: Meditation\, Soundhealing y Closing\nHappenings: Tarot reading\, Body Massage\, Flash Tattoo
URL:https://haabproject.com/event/secret-temple/
LOCATION:Amsterdam 255\, CDMX\, Ciudad de México\, 06100\, Mexico
CATEGORIES:Social,Wellness
ATTACH;FMTTYPE=image/png:https://haabproject.com/wp-content/uploads/2024/02/HAAB-WIx-23.png
END:VEVENT
BEGIN:VEVENT
DTSTART;TZID=America/Mexico_City:20240327T190000
DTEND;TZID=America/Mexico_City:20240327T220000
DTSTAMP:20260423T143012
CREATED:20240301T020257Z
LAST-MODIFIED:20240301T020257Z
UID:10000382-1711566000-1711576800@haabproject.com
SUMMARY:AI AMPED MONTHLY SOCIAL
DESCRIPTION:A.I. ART\, CURATED NETWORKING\, TECH DEMOS
URL:https://haabproject.com/event/ai-amped-monthly-social/
LOCATION:Amsterdam 255\, CDMX\, Ciudad de México\, 06100\, Mexico
CATEGORIES:Innovation & Knowledge,Social
ATTACH;FMTTYPE=image/jpeg:https://haabproject.com/wp-content/uploads/2024/02/HAAB-WIx-4.jpg
END:VEVENT
BEGIN:VEVENT
DTSTART;TZID=America/Mexico_City:20240413T180000
DTEND;TZID=America/Mexico_City:20240413T223000
DTSTAMP:20260423T143012
CREATED:20240409T182534Z
LAST-MODIFIED:20240409T182534Z
UID:10000410-1713031200-1713047400@haabproject.com
SUMMARY:Ukiyo & Friends
DESCRIPTION:LINEUP: \n6:00 pm / 7:30 pm \nÍKER \n7:30 // 9:00 pm \nUkiyo \n9:00 // 10:30 pm \nDiego Palomar
URL:https://haabproject.com/event/ukiyo-friends/
LOCATION:Amsterdam 255\, CDMX\, Ciudad de México\, 06100\, Mexico
CATEGORIES:Social
ATTACH;FMTTYPE=image/png:https://haabproject.com/wp-content/uploads/2024/04/HAAB-WIx-y-APP-Chica-4-1.png
END:VEVENT
BEGIN:VEVENT
DTSTART;TZID=America/Mexico_City:20240419T180000
DTEND;TZID=America/Mexico_City:20240419T223000
DTSTAMP:20260423T143012
CREATED:20240408T185651Z
LAST-MODIFIED:20240408T185651Z
UID:10000414-1713549600-1713565800@haabproject.com
SUMMARY:Cannábica Nocturna
DESCRIPTION:  \nUna experiencia culinaria inolvidable con Emme y Jorge aguarda a 35 personas en HAAB Project\, donde la fusión de sabores únicos se eleva con un toque cannábico. Este evento exclusivo\, diseñado para deleitar los sentidos y abrir la mente\, se celebra en un ambiente íntimo y acogedor\, garantizando una noche de conexión y disfrute. Con una atención meticulosa a cada detalle\, desde la decoración hasta la selección de menús personalizados\, nuestros chefs especializados prometen llevar a los comensales en un viaje gastronómico sin precedentes. Aprovechando la versatilidad y los beneficios del cannabis\, cada platillo está cuidadosamente preparado para equilibrar sabor y bienestar\, prometiendo no solo satisfacer el paladar sino también fomentar una experiencia holística y armoniosa. Sumérgete en esta cena cannábica en HAAB Project\, donde la innovación culinaria se encuentra con la excelencia y el estilo.
URL:https://haabproject.com/event/cannabica-nocturna/
LOCATION:Amsterdam 255\, CDMX\, Ciudad de México\, 06100\, Mexico
CATEGORIES:Social
ATTACH;FMTTYPE=image/png:https://haabproject.com/wp-content/uploads/2024/04/HAAB-WIx-y-APP-Chica-3.png
END:VEVENT
BEGIN:VEVENT
DTSTART;TZID=America/Mexico_City:20240420T160000
DTEND;TZID=America/Mexico_City:20240420T230000
DTSTAMP:20260423T143012
CREATED:20240408T141412Z
LAST-MODIFIED:20240408T141412Z
UID:10000412-1713628800-1713654000@haabproject.com
SUMMARY:Keep It Fresh Showcase
DESCRIPTION:Join us on another edition of the KIF Showcase and experience the ultimate fusion of talent as our roster of DJs curate the music of the day.
URL:https://haabproject.com/event/keep-it-fresh-showcase/
LOCATION:Amsterdam 255\, CDMX\, Ciudad de México\, 06100\, Mexico
CATEGORIES:Social
ATTACH;FMTTYPE=image/png:https://haabproject.com/wp-content/uploads/2024/04/FCFE5B5C-1703-4C26-92EC-18059AE1DFD7.png
END:VEVENT
BEGIN:VEVENT
DTSTART;TZID=America/Mexico_City:20240425T170000
DTEND;TZID=America/Mexico_City:20240425T230000
DTSTAMP:20260423T143012
CREATED:20240404T175726Z
LAST-MODIFIED:20240404T175726Z
UID:10000409-1714064400-1714086000@haabproject.com
SUMMARY:Sonic Soirée
DESCRIPTION:Lineup: \nJoss Martin\, \nEMME\, \nTxu
URL:https://haabproject.com/event/sonic-soiree/
LOCATION:Amsterdam 255\, CDMX\, Ciudad de México\, 06100\, Mexico
CATEGORIES:Social
ATTACH;FMTTYPE=image/png:https://haabproject.com/wp-content/uploads/2024/04/HAAB-WIx-y-APP-Chica-1.png
END:VEVENT
BEGIN:VEVENT
DTSTART;TZID=America/Mexico_City:20240427T130000
DTEND;TZID=America/Mexico_City:20240427T220000
DTSTAMP:20260423T143012
CREATED:20240411T171720Z
LAST-MODIFIED:20240411T171720Z
UID:10000423-1714222800-1714255200@haabproject.com
SUMMARY:Lilith's Den
DESCRIPTION:EXCLUSIVE EVENT FOR WOMEN \nLINEUP: \nUN FLAMINGO EN TUTU \nB2B \nSUGARMAMI
URL:https://haabproject.com/event/liliths-den-5/
LOCATION:Amsterdam 255\, CDMX\, Ciudad de México\, 06100\, Mexico
CATEGORIES:Social
ATTACH;FMTTYPE=image/png:https://haabproject.com/wp-content/uploads/2024/03/Lilith´s-Den-Wix.png
END:VEVENT
BEGIN:VEVENT
DTSTART;TZID=America/Mexico_City:20240502T170000
DTEND;TZID=America/Mexico_City:20240502T210000
DTSTAMP:20260423T143012
CREATED:20240429T145852Z
LAST-MODIFIED:20240429T145852Z
UID:10000492-1714669200-1714683600@haabproject.com
SUMMARY:Torneo de Backgammon HAAB
DESCRIPTION:Prepárate para nuestro Torneo de Backgammon en HAAB Project. Con espacio para solo 60 jugadores\, este evento promete competencia y conexión en cada lanzamiento de dados. \nParticipa con una entrada de 300 pesos y\, si necesitas una segunda chance\, aprovecha nuestro Re-buy por el mismo costo. \nNo solo jugarás por el honor de ser el campeón sino también por un premio sorpresa que seguro te motivará a sacar lo mejor de tu juego. \nPerfecto para una tarde de retos mentales y sociales\, este torneo no es solo para los maestros del backgammon\, sino para cualquiera que disfrute de un buen desafío. \nVen a demostrar tus habilidades y quizás\, llevarte el gran premio de la noche en un ambiente único y exclusivo.
URL:https://haabproject.com/event/torneo-de-backgammon-haab/
LOCATION:Amsterdam 255\, CDMX\, Ciudad de México\, 06100\, Mexico
CATEGORIES:Social
ATTACH;FMTTYPE=image/jpeg:https://haabproject.com/wp-content/uploads/2024/04/HAAB-Wix-y-App-Chica-1.jpg
END:VEVENT
BEGIN:VEVENT
DTSTART;TZID=America/Mexico_City:20240509T180000
DTEND;TZID=America/Mexico_City:20240509T220000
DTSTAMP:20260423T143012
CREATED:20240429T220216Z
LAST-MODIFIED:20240429T220216Z
UID:10000497-1715277600-1715292000@haabproject.com
SUMMARY:Aniversario Artifice
DESCRIPTION:BEATS BY: \nApollonia Orsoni\nOperación Tormenta
URL:https://haabproject.com/event/aniversario-artifice/
LOCATION:Amsterdam 255\, CDMX\, Ciudad de México\, 06100\, Mexico
CATEGORIES:Social
ATTACH;FMTTYPE=image/jpeg:https://haabproject.com/wp-content/uploads/2024/04/HAAB-Wix-y-App-Chica-4.jpg
END:VEVENT
BEGIN:VEVENT
DTSTART;TZID=America/Mexico_City:20240614T190000
DTEND;TZID=America/Mexico_City:20240614T220000
DTSTAMP:20260423T143012
CREATED:20240531T002559Z
LAST-MODIFIED:20240531T002559Z
UID:10000508-1718391600-1718402400@haabproject.com
SUMMARY:Salsa\, Social & Cocktails
DESCRIPTION:Disfruta de una noche de entrenamiento de Salsa Cubana con Ricardo\, seguida de una hora de baile libre donde podrás perfeccionar tus movimientos. Relájate con un cóctel en mano y conecta con otros amantes del baile.
URL:https://haabproject.com/event/salsa-social-cocktails/
LOCATION:Amsterdam 255\, CDMX\, Ciudad de México\, 06100\, Mexico
CATEGORIES:Social
ATTACH;FMTTYPE=image/jpeg:https://haabproject.com/wp-content/uploads/2024/05/Salsa-Night-FLYER-WEB.jpg
END:VEVENT
BEGIN:VEVENT
DTSTART;TZID=America/Mexico_City:20240620T170000
DTEND;TZID=America/Mexico_City:20240620T230000
DTSTAMP:20260423T143012
CREATED:20240531T221815Z
LAST-MODIFIED:20240531T221815Z
UID:10000523-1718902800-1718924400@haabproject.com
SUMMARY:Sonic Soirée
DESCRIPTION:Lineup: \nRoderic \nHAAB Family: \nMafulaka \nDurango 95
URL:https://haabproject.com/event/sonic-soiree-2/
LOCATION:Amsterdam 255\, CDMX\, Ciudad de México\, 06100\, Mexico
CATEGORIES:Social
ATTACH;FMTTYPE=image/jpeg:https://haabproject.com/wp-content/uploads/2024/05/SONIC-SOIREE.jpg
END:VEVENT
BEGIN:VEVENT
DTSTART;TZID=America/Mexico_City:20240621T180000
DTEND;TZID=America/Mexico_City:20240621T220000
DTSTAMP:20260423T143012
CREATED:20240531T003552Z
LAST-MODIFIED:20240531T003552Z
UID:10000517-1718992800-1719007200@haabproject.com
SUMMARY:PIZZA CLASS BY VAL GUERRERO
DESCRIPTION:FOR LILITH´S GIRLS ONLY \n¡Slice of pride! 🍕🎉 \n¡Prepárate para una noche inolvidable llena de sabor\, diversión y pura risa! Únete a nuestra mini masterclass de pizza donde no solo aprenderás a crear las pizzas más deliciosas y sexys\, sino que también desatarás tu lado más atrevido en una fiesta que promete ser épica. \nDespués de la clase\, suelta tu cabello y prepárate para tomar un drink y comer tu propia creación🔥
URL:https://haabproject.com/event/pizza-class-by-val-guerrero/
LOCATION:Amsterdam 255\, CDMX\, Ciudad de México\, 06100\, Mexico
CATEGORIES:Art & Culture,Social
ATTACH;FMTTYPE=image/jpeg:https://haabproject.com/wp-content/uploads/2024/05/14.jpg
END:VEVENT
BEGIN:VEVENT
DTSTART;TZID=America/Mexico_City:20240629T180000
DTEND;TZID=America/Mexico_City:20240629T220000
DTSTAMP:20260423T143012
CREATED:20240624T180840Z
LAST-MODIFIED:20240624T180840Z
UID:10000571-1719684000-1719698400@haabproject.com
SUMMARY:BAILAROS x HEART MOVES
DESCRIPTION:LINK FOR TICKETS: https://buytickets.at/theauracompany/1291447 \nEcstatic Dance by magician @lagartijeando \nDance circle led by renowned netflix star @vandanahart \nSinging circle held by talented @eddycolibri @alegrethea @lavidadecaro_ @anapranaa @andres_fdz_percu and @meditaconange @luismolinar \nMovement meditation by @anaembodiment \nBodyart by @art.of.lua \nCacao &amp; Elixir bar by @cacao.colibri
URL:https://haabproject.com/event/bailaros-x-heart-moves/
LOCATION:Amsterdam 255\, CDMX\, Ciudad de México\, 06100\, Mexico
CATEGORIES:Social
ATTACH;FMTTYPE=image/jpeg:https://haabproject.com/wp-content/uploads/2024/06/HAAB-Event-Flyer-Web-4.jpg
END:VEVENT
BEGIN:VEVENT
DTSTART;TZID=America/Mexico_City:20240704T190000
DTEND;TZID=America/Mexico_City:20240704T220000
DTSTAMP:20260423T143012
CREATED:20240626T144704Z
LAST-MODIFIED:20240626T144704Z
UID:10000574-1720119600-1720130400@haabproject.com
SUMMARY:Salsa\, Social & Cocktails
DESCRIPTION:Disfruta de una noche de entrenamiento de Salsa Cubana con Ricardo\, seguida de una hora de baile libre donde podrás perfeccionar tus movimientos. Relájate con un cóctel en mano y conecta con otros amantes del baile.
URL:https://haabproject.com/event/salsa-social-cocktails-2/
LOCATION:Amsterdam 255\, CDMX\, Ciudad de México\, 06100\, Mexico
CATEGORIES:Social
ATTACH;FMTTYPE=image/jpeg:https://haabproject.com/wp-content/uploads/2024/06/SALSA-WEB.jpg
END:VEVENT
BEGIN:VEVENT
DTSTART;TZID=America/Mexico_City:20240713T110000
DTEND;TZID=America/Mexico_City:20240714T203000
DTSTAMP:20260423T143012
CREATED:20240626T153924Z
LAST-MODIFIED:20240626T153924Z
UID:10000568-1720868400-1720989000@haabproject.com
SUMMARY:Archivo Vintach
DESCRIPTION:Colectivo circular con la mejor curaduría vintage\, upcycling y marcas locales.
URL:https://haabproject.com/event/archivo-vintach-4-2/
LOCATION:Amsterdam 255\, CDMX\, Ciudad de México\, 06100\, Mexico
CATEGORIES:Social
ATTACH;FMTTYPE=image/jpeg:https://haabproject.com/wp-content/uploads/2024/06/ARCHIVO-VINTACH-WEB.jpg
END:VEVENT
BEGIN:VEVENT
DTSTART;TZID=America/Mexico_City:20240713T150000
DTEND;TZID=America/Mexico_City:20240713T220000
DTSTAMP:20260423T143012
CREATED:20240702T155811Z
LAST-MODIFIED:20240702T155811Z
UID:10000578-1720882800-1720908000@haabproject.com
SUMMARY:Lilith's Den
DESCRIPTION:IT’S SUMMER \nEXCLUSIVE EVENT FOR WOMEN \nLINEUP: \nMACARENA \nESAMIPAU \nMARIANA \n  \n 
URL:https://haabproject.com/event/liliths-den-6/
LOCATION:Amsterdam 255\, CDMX\, Ciudad de México\, 06100\, Mexico
CATEGORIES:Social
ATTACH;FMTTYPE=image/jpeg:https://haabproject.com/wp-content/uploads/2024/07/LILITH-DEN-WEB-2.jpg
END:VEVENT
BEGIN:VEVENT
DTSTART;TZID=America/Mexico_City:20240716T180000
DTEND;TZID=America/Mexico_City:20240716T210000
DTSTAMP:20260423T143012
CREATED:20240626T154935Z
LAST-MODIFIED:20240626T154935Z
UID:10000569-1721152800-1721163600@haabproject.com
SUMMARY:GAME NIGHT: Torneo de Backgammon y Ajedrez HAAB
DESCRIPTION:Prepárate para nuestro Torneo de Backgammon y Ajedrez en HAAB Project. Con espacio para solo 30 jugadores\, este evento promete competencia y conexión en cada lanzamiento de dados y en cada movida. \nParticipa con una entrada de $300 pesos \nNo solo jugarás por el honor de ser el campeón sino también por un premio sorpresa que seguro te motivará a sacar lo mejor de tu juego. \nPerfecto para una tarde de retos mentales y sociales\, este torneo no es solo para los maestros del backgammon y el ajedrez\, sino para cualquiera que disfrute de un buen desafío. \nVen a demostrar tus habilidades y quizás\, llevarte el gran premio de la noche en un ambiente único y exclusivo.
URL:https://haabproject.com/event/game-night-torneo-de-backgammon-y-ajedrez-haab/
LOCATION:Amsterdam 255\, CDMX\, Ciudad de México\, 06100\, Mexico
CATEGORIES:Social
ATTACH;FMTTYPE=image/jpeg:https://haabproject.com/wp-content/uploads/2024/06/GAME-NIGHT-WEB.jpg
END:VEVENT
BEGIN:VEVENT
DTSTART;TZID=America/Mexico_City:20240717T200000
DTEND;TZID=America/Mexico_City:20240717T223000
DTSTAMP:20260423T143012
CREATED:20240702T222650Z
LAST-MODIFIED:20240702T222650Z
UID:10000580-1721246400-1721255400@haabproject.com
SUMMARY:Blue Lotus & Sound con Thea
DESCRIPTION:A Cacao-infused meditation guided by music\, visualization\, sound &amp; peaceful self-realization. \nBlue Lotus  works as a vehicle of emotions and sensitivity\, and with the heart as the main motor it can take us to deep states of body relaxation and creativity\, integrating visualization\, music and sound\, brain speed will relax as well\, navigating a liminal journey between reality and dreams where higher states of consciousness are activated\, anxiety and stress relieves\, and physical body recalibrates. \nSchedule \n8:00 pm – 8:30 Reception \n8:30 pm -10:15 Blue Lotus & Sound Liminal Journey \nBring Comfortable warm cloth \nEye band if possible \nPen & Note Book for journaling. \nLINK FOR TICKETS: \nhttps://buytickets.at/loveacademy/1306385/r/haab
URL:https://haabproject.com/event/blue-lotus-sound-con-adan-v/
LOCATION:Amsterdam 255\, CDMX\, Ciudad de México\, 06100\, Mexico
CATEGORIES:Social,Wellness
ATTACH;FMTTYPE=image/jpeg:https://haabproject.com/wp-content/uploads/2024/07/BLUE-LOTUS-WEB.jpg
END:VEVENT
BEGIN:VEVENT
DTSTART;TZID=America/Mexico_City:20240718T180000
DTEND;TZID=America/Mexico_City:20240718T223000
DTSTAMP:20260423T143012
CREATED:20240702T203509Z
LAST-MODIFIED:20240718T124610Z
UID:10000540-1721325600-1721341800@haabproject.com
SUMMARY:Revitalizing Rhythm
DESCRIPTION:Manu’s Birthday Bash \n  \nLINEUP: \n  \nManu & Friends
URL:https://haabproject.com/event/revitalizing-rhythm/
LOCATION:Amsterdam 255\, CDMX\, Ciudad de México\, 06100\, Mexico
CATEGORIES:Social
ATTACH;FMTTYPE=image/jpeg:https://haabproject.com/wp-content/uploads/2024/07/BIRTHDAY-MANU-WEBA.jpg
END:VEVENT
BEGIN:VEVENT
DTSTART;TZID=America/Mexico_City:20240725T170000
DTEND;TZID=America/Mexico_City:20240725T230000
DTSTAMP:20260423T143012
CREATED:20240702T203355Z
LAST-MODIFIED:20240718T124704Z
UID:10000579-1721926800-1721948400@haabproject.com
SUMMARY:Sonic Soirée
DESCRIPTION:LINEUP: \nSOLAR X\nMILA CLEC\nJIMENO\nPSYCH B2B PABLO JOSÉ \n 
URL:https://haabproject.com/event/sonic-soiree-3/
LOCATION:Amsterdam 255\, CDMX\, Ciudad de México\, 06100\, Mexico
CATEGORIES:Social
ATTACH;FMTTYPE=image/jpeg:https://haabproject.com/wp-content/uploads/2024/06/SONIC-SOIREE-WEB.jpg
END:VEVENT
BEGIN:VEVENT
DTSTART;TZID=America/Mexico_City:20240727T170000
DTEND;TZID=America/Mexico_City:20240727T230000
DTSTAMP:20260423T143012
CREATED:20240702T203628Z
LAST-MODIFIED:20240718T124200Z
UID:10000590-1722099600-1722121200@haabproject.com
SUMMARY:Caravan Tales
DESCRIPTION:LINEUP: \nBALMORI\nROHAN\nVALDERRAMA
URL:https://haabproject.com/event/caravan-tales-2/
LOCATION:Amsterdam 255\, CDMX\, Ciudad de México\, 06100\, Mexico
CATEGORIES:Social
ATTACH;FMTTYPE=image/jpeg:https://haabproject.com/wp-content/uploads/2024/07/CARAVAN-TALES-WEB.jpg
END:VEVENT
BEGIN:VEVENT
DTSTART;TZID=America/Mexico_City:20240801T190000
DTEND;TZID=America/Mexico_City:20240801T220000
DTSTAMP:20260423T143012
CREATED:20240729T131528Z
LAST-MODIFIED:20240729T160953Z
UID:10000601-1722538800-1722549600@haabproject.com
SUMMARY:Salsa\, Social & Cocktails
DESCRIPTION:Disfruta de una noche de entrenamiento de Salsa Cubana con Ricardo\, seguida de una hora de baile libre donde podrás perfeccionar tus movimientos. Relájate con un cóctel en mano y conecta con otros amantes del baile.
URL:https://haabproject.com/event/salsa-social-cocktails-3/
LOCATION:Amsterdam 255\, CDMX\, Ciudad de México\, 06100\, Mexico
CATEGORIES:Social
ATTACH;FMTTYPE=image/jpeg:https://haabproject.com/wp-content/uploads/2024/07/SALSA-WEB-1.jpg
END:VEVENT
BEGIN:VEVENT
DTSTART;TZID=America/Mexico_City:20240803T110000
DTEND;TZID=America/Mexico_City:20240804T190000
DTSTAMP:20260423T143012
CREATED:20240724T221728Z
LAST-MODIFIED:20240724T225813Z
UID:10000597-1722682800-1722798000@haabproject.com
SUMMARY:Dusty Curiouser Market: Road To Deep Playa Bazaar
DESCRIPTION:Exclusive Products: Discover a unique selection of products from Worldwide entrepreneurs.(Clothing\, Jewelry\, Sunglasses\, Hats\, Accesories\, Tattoos\, Live painting\, Boots and many more) \nEntertainment: Live music\, activities for the whole family and much more. \nFood and Drink: Delicious gastronomic options for all tastes. \n(Mezcal amaras\, Dela zkombucha & Felix prepared and seleccionó of fine cocktails for us) \nYou can not lose this! Bring your friends and family to spend an amazing day with us.
URL:https://haabproject.com/event/dusty-curiouser-market-road-to-deep-playa-bazaar/
LOCATION:HAAB\, Amsterdam 255\, CDMX\, Ciudad de México\, 06100\, Mexico
CATEGORIES:Art & Culture,Arte y Cultura,Social,Social
ATTACH;FMTTYPE=image/jpeg:https://haabproject.com/wp-content/uploads/2024/07/DUSTY-CURIOUSER-MARKER-WEB.jpg
END:VEVENT
BEGIN:VEVENT
DTSTART;TZID=America/Mexico_City:20240803T190000
DTEND;TZID=America/Mexico_City:20240803T230000
DTSTAMP:20260423T143012
CREATED:20240724T231951Z
LAST-MODIFIED:20240724T231951Z
UID:10000598-1722711600-1722726000@haabproject.com
SUMMARY:Dusty Curiouser Afterparty
DESCRIPTION:
URL:https://haabproject.com/event/dusty-curiouser-afterparty/
LOCATION:HAAB\, Amsterdam 255\, CDMX\, Ciudad de México\, 06100\, Mexico
CATEGORIES:Social,Social
ATTACH;FMTTYPE=image/jpeg:https://haabproject.com/wp-content/uploads/2024/07/DUSTY-CURIOUSER-PARTY-WEB.jpg
END:VEVENT
BEGIN:VEVENT
DTSTART;TZID=America/Mexico_City:20240810T160000
DTEND;TZID=America/Mexico_City:20240810T210000
DTSTAMP:20260423T143012
CREATED:20240807T193354Z
LAST-MODIFIED:20240807T193606Z
UID:10000612-1723305600-1723323600@haabproject.com
SUMMARY:Riddim & Beats
DESCRIPTION:OPEN BAR/BARRA LIBRE (4-5pm) \nDJ: THE BRADLEY WAY
URL:https://haabproject.com/event/riddim-beats/
LOCATION:HAAB\, Amsterdam 255\, CDMX\, Ciudad de México\, 06100\, Mexico
CATEGORIES:Social,Social
ATTACH;FMTTYPE=image/jpeg:https://haabproject.com/wp-content/uploads/2024/08/BEATS-RIDDIN-WEB.jpg
END:VEVENT
BEGIN:VEVENT
DTSTART;TZID=America/Mexico_City:20240816T180000
DTEND;TZID=America/Mexico_City:20240816T220000
DTSTAMP:20260423T143012
CREATED:20240729T212440Z
LAST-MODIFIED:20240816T155436Z
UID:10000604-1723831200-1723845600@haabproject.com
SUMMARY:Pasta Class by Val Guerrero
DESCRIPTION:FOR LILITH´S GIRLS ONLY \n  \nGIRLS ONLY \n¡Prepárate para una noche inolvidable llena de sabor\, diversión y pura risa! Únete a nuestra mini masterclass de pasta donde no solo aprenderás a crear un platillo delicioso y sexy\, sino que también desatarás tu lado más atrevido en una fiesta que promete ser épica. \nDespués de la clase\, suelta tu cabello y prepárate para tomar un drink y comer tu propia creación🔥
URL:https://haabproject.com/event/pasta-class-by-val-guerrero/
LOCATION:Amsterdam 255\, CDMX\, Ciudad de México\, 06100\, Mexico
CATEGORIES:Art & Culture,Social
ATTACH;FMTTYPE=image/jpeg:https://haabproject.com/wp-content/uploads/2024/07/LILITHS-PASTA-WEB-1.jpg
END:VEVENT
BEGIN:VEVENT
DTSTART;TZID=America/Mexico_City:20240823T160000
DTEND;TZID=America/Mexico_City:20240823T210000
DTSTAMP:20260423T143012
CREATED:20240820T145349Z
LAST-MODIFIED:20240821T150531Z
UID:10000623-1724428800-1724446800@haabproject.com
SUMMARY:Riddim & Beats
DESCRIPTION:OPEN BAR/BARRA LIBRE (5-6pm) \nA Fusion of Dancehall & Afrobeats by DJ GORY
URL:https://haabproject.com/event/riddim-beats-2/
LOCATION:HAAB\, Amsterdam 255\, CDMX\, Ciudad de México\, 06100\, Mexico
CATEGORIES:Social,Social
ATTACH;FMTTYPE=image/jpeg:https://haabproject.com/wp-content/uploads/2024/08/BEATS-RIDDIN-WEB-2-1.jpg
END:VEVENT
BEGIN:VEVENT
DTSTART;TZID=America/Mexico_City:20240824T180000
DTEND;TZID=America/Mexico_City:20240824T220000
DTSTAMP:20260423T143012
CREATED:20240802T224452Z
LAST-MODIFIED:20240802T224645Z
UID:10000611-1724522400-1724536800@haabproject.com
SUMMARY:BAILAROS x HEART MOVES
DESCRIPTION:LINK FOR TICKETS: https://www.tickettailor.com/events/theauracompany/1339512 \n06.00 pm – Doors Open \nInitial Cacao Activation and Face Painting by Johana and Lorena \n06.15 pm – Voice Activation by Eddy\, Deci\, Angie\, Thea\, Andrés & Luis \n06.45 pm – Movement Meditation by Aliza Tuachi \n07.00 pm – Heart Moves Dance Circle by Vandana Hart \n08.00pm – Ecstatic Dance DJ Set by Magisus \n09.30 – Sound Healing by Eddy\, Thea & Deci \n9.45 pm – Closing Circle \n10.00 pm – Doors close
URL:https://haabproject.com/event/bailaros-x-heart-moves-2/
LOCATION:Amsterdam 255\, CDMX\, Ciudad de México\, 06100\, Mexico
CATEGORIES:Social,Wellness
ATTACH;FMTTYPE=image/jpeg:https://haabproject.com/wp-content/uploads/2024/08/BAILAROS-X-HEART-MOVES-WEB-1.jpg
END:VEVENT
BEGIN:VEVENT
DTSTART;TZID=America/Mexico_City:20240906T170000
DTEND;TZID=America/Mexico_City:20240906T230000
DTSTAMP:20260423T143012
CREATED:20240825T043911Z
LAST-MODIFIED:20240825T044917Z
UID:10000616-1725642000-1725663600@haabproject.com
SUMMARY:Viernesito - Keept it Fresh
DESCRIPTION:LINEUP BY KEEP IT FRESH \nCHEMA DIAZ\nMASHA ZDROK\nGRAVITÉ\nADRN
URL:https://haabproject.com/event/viernesito-keept-it-fresh/
LOCATION:HAAB\, Amsterdam 255\, CDMX\, Ciudad de México\, 06100\, Mexico
CATEGORIES:Social,Social
ATTACH;FMTTYPE=image/jpeg:https://haabproject.com/wp-content/uploads/2024/08/VIERNECITO-6-WEB-1.jpg
END:VEVENT
BEGIN:VEVENT
DTSTART;TZID=America/Mexico_City:20240912T170000
DTEND;TZID=America/Mexico_City:20240912T230000
DTSTAMP:20260423T143012
CREATED:20240825T050403Z
LAST-MODIFIED:20240826T181649Z
UID:10000617-1726160400-1726182000@haabproject.com
SUMMARY:Mexican Sonic Soirée
DESCRIPTION:LINEUP: \nISAAC SOTO (LIVE) \nJIMENO \nPABLO JOSÉ \n 
URL:https://haabproject.com/event/mexican-sonic-soiree/
LOCATION:Amsterdam 255\, CDMX\, Ciudad de México\, 06100\, Mexico
CATEGORIES:Social,Social
ATTACH;FMTTYPE=image/jpeg:https://haabproject.com/wp-content/uploads/2024/08/SONIC-SOIREE-WEB-1.jpg
END:VEVENT
END:VCALENDAR