BEGIN:VCALENDAR
VERSION:2.0
PRODID:-//HAAB Project - ECPv6.15.20//NONSGML v1.0//EN
CALSCALE:GREGORIAN
METHOD:PUBLISH
X-WR-CALNAME:HAAB Project
X-ORIGINAL-URL:https://haabproject.com
X-WR-CALDESC:Events for HAAB Project
REFRESH-INTERVAL;VALUE=DURATION:PT1H
X-Robots-Tag:noindex
X-PUBLISHED-TTL:PT1H
BEGIN:VTIMEZONE
TZID:America/Mexico_City
BEGIN:STANDARD
TZOFFSETFROM:-0600
TZOFFSETTO:-0600
TZNAME:CST
DTSTART:20240101T000000
END:STANDARD
END:VTIMEZONE
BEGIN:VEVENT
DTSTART;TZID=America/Mexico_City:20250517T110000
DTEND;TZID=America/Mexico_City:20250517T220000
DTSTAMP:20260419T211803
CREATED:20250430T225549Z
LAST-MODIFIED:20250430T225549Z
UID:10000750-1747479600-1747519200@haabproject.com
SUMMARY:The Gathering: Road to Yelapa
DESCRIPTION:The Gathering llega a HAAB para co-crear un día de conexión auténtica\, presencia y celebración del camino interior. Este 17 de mayo te invitamos a vivir un pop-up con alma de comunidad: exploraremos el cuerpo\, la mente y la tierra a través de conversaciones sobre adaptógenos\, arte\, flash tattoos\, DJ dance yoga y otras experiencias que despiertan los sentidos. The Gathering: Yelapa es un festival boutique que sucede en la selva de Jalisco\, donde la música\, la consciencia\, el arte y la sostenibilidad se viven desde lo real y lo compartido. \nEste encuentro en HAAB es una invitación a volver al centro. A recordar lo esencial. Y a comenzar la aventura hacia Yelapa desde adentro.
URL:https://haabproject.com/event/the-gathering-road-to-yelapa/
LOCATION:HAAB\, Amsterdam 255\, CDMX\, Ciudad de México\, 06100\, Mexico
CATEGORIES:Art & Culture,Arte y Cultura,Bienestar,Social,Social,Wellness
ATTACH;FMTTYPE=image/jpeg:https://haabproject.com/wp-content/uploads/2025/04/YELAPA-WEB.jpg
END:VEVENT
BEGIN:VEVENT
DTSTART;VALUE=DATE:20250522
DTEND;VALUE=DATE:20250523
DTSTAMP:20260419T211803
CREATED:20250430T224839Z
LAST-MODIFIED:20250501T010047Z
UID:10000761-1747872000-1747958399@haabproject.com
SUMMARY:Open House: Mi Casa es Tu Casa
DESCRIPTION:We Open HAAB Project for Members to invite up to 4 guests to spend the day working\, connecting or participating in the activities. Book Spots on the HAAB Members App. \n07:00 am – Tempranito Yoga \n14:30 pm – Family Thursday \n17:00 pm – HAAB a Connection with Lorenzo Edwards
URL:https://haabproject.com/event/open-house-mi-casa-es-tu-casa-4/
LOCATION:HAAB\, Amsterdam 255\, CDMX\, Ciudad de México\, 06100\, Mexico
CATEGORIES:Social,Social
ATTACH;FMTTYPE=image/jpeg:https://haabproject.com/wp-content/uploads/2025/04/OPEN-HOUSE-WEB-8.jpg
END:VEVENT
BEGIN:VEVENT
DTSTART;TZID=America/Mexico_City:20250524T110000
DTEND;TZID=America/Mexico_City:20250525T203000
DTSTAMP:20260419T211803
CREATED:20250501T012640Z
LAST-MODIFIED:20250501T012640Z
UID:10000747-1748084400-1748205000@haabproject.com
SUMMARY:Archivo Vintach
DESCRIPTION:Colectivo circular donde podrán encontrar la mejor curaduría vintage\, upcycling y marcas locales. Además tendremos workshops durante todo el fin de semana. Ven y únete a nuestra comunidad.
URL:https://haabproject.com/event/archivo-vintach-10/
LOCATION:HAAB\, Amsterdam 255\, CDMX\, Ciudad de México\, 06100\, Mexico
CATEGORIES:Social,Social
ATTACH;FMTTYPE=image/jpeg:https://haabproject.com/wp-content/uploads/2025/04/ARCHVINT-7-WEB-3.jpg
END:VEVENT
BEGIN:VEVENT
DTSTART;TZID=America/Mexico_City:20250524T150000
DTEND;TZID=America/Mexico_City:20250524T220000
DTSTAMP:20260419T211803
CREATED:20250502T142912Z
LAST-MODIFIED:20250502T143101Z
UID:10000748-1748098800-1748124000@haabproject.com
SUMMARY:Lilith's Escuelita
DESCRIPTION:FOR GIRLS ONLY \nBEATS BY: \nMAMI PISTOLA \nBURRITOUS \nRI-QUEZ
URL:https://haabproject.com/event/liliths-escuelita/
LOCATION:HAAB\, Amsterdam 255\, CDMX\, Ciudad de México\, 06100\, Mexico
CATEGORIES:Social,Social
ATTACH;FMTTYPE=image/jpeg:https://haabproject.com/wp-content/uploads/2025/05/LILITH-WEB-1.jpg
END:VEVENT
BEGIN:VEVENT
DTSTART;TZID=America/Mexico_City:20250529T170000
DTEND;TZID=America/Mexico_City:20250529T230000
DTSTAMP:20260419T211803
CREATED:20250429T160441Z
LAST-MODIFIED:20250429T160441Z
UID:10000744-1748538000-1748559600@haabproject.com
SUMMARY:Artifice: La Ultima y Nos Vamos
DESCRIPTION:Te invitamos a cerrar este ciclo con nosotros\, para celebrar 9 años de logros con descuentos imperdiles del 40 por ciento. \nMás de 15 artistas exponen sus obras que van desde pinturas abstracta a fotografías de paisajes y series creativas que emplean técnicas mixtas\, con precios irresistibles . \nGracias a todos los artistas\, coleccionistas\, colaboradores y a Haab por abrirnos las puertas para hacer lo que más nos gusta: llevar el Arte a más personas. \nNos vamos contentas y llenas de orgullo. Se cierra un ciclo y se abren nuevas oportunidades. Pero antes acompañanos a darle a Artífice un último adios. \n40 %  De descuento en todas las obras.
URL:https://haabproject.com/event/artifice-la-ultima-y-nos-vamos/
LOCATION:HAAB\, Amsterdam 255\, CDMX\, Ciudad de México\, 06100\, Mexico
CATEGORIES:Social,Social
ATTACH;FMTTYPE=image/jpeg:https://haabproject.com/wp-content/uploads/2025/04/ARTIFICE-WEB.jpg
END:VEVENT
BEGIN:VEVENT
DTSTART;TZID=America/Mexico_City:20250531T110000
DTEND;TZID=America/Mexico_City:20250531T170000
DTSTAMP:20260419T211803
CREATED:20250501T011603Z
LAST-MODIFIED:20250501T012113Z
UID:10000745-1748689200-1748710800@haabproject.com
SUMMARY:Café Sonoro: Vinyls\, Recovery & Friends w/ HULE Records
DESCRIPTION:Café Sonoro: Vinyls\, Recovery & Friends es una fiesta de sábado donde la música\, el bienestar y la comunidad se encuentran en perfecta sintonía. \nEsta edición la realizamos en colaboración con Hule Records\, sello y tienda de vinilos que trae consigo una curaduría musical única\, cuidada y 100% en formato físico. \nDurante el día podrás disfrutar sets en vivo de los Hule Selectors tocando exclusivamente en vinilo\, explorar y adquirir una selección especial de discos\, compartir un café entre amigos y moverte al ritmo del groove más auténtico. \nEn la parte superior del venue encontrarás una zona de recovery con baños de hielo y sueros IV tónicos\, ambos con precio especial para asistentes. El reset perfecto sin perder el beat. \nUna manera distinta de vivir el sábado: con ritmo\, calma y comunidad.
URL:https://haabproject.com/event/cafe-sonoro-vinyls-recovery-friends-w-hule-records/
LOCATION:HAAB\, Amsterdam 255\, CDMX\, Ciudad de México\, 06100\, Mexico
CATEGORIES:Social,Social
ATTACH;FMTTYPE=image/jpeg:https://haabproject.com/wp-content/uploads/2025/04/cafe-WEB-1.jpg
END:VEVENT
BEGIN:VEVENT
DTSTART;TZID=America/Mexico_City:20250613T093000
DTEND;TZID=America/Mexico_City:20250613T123000
DTSTAMP:20260419T211803
CREATED:20250527T185948Z
LAST-MODIFIED:20250527T185948Z
UID:10000766-1749807000-1749817800@haabproject.com
SUMMARY:Wild & Well: Chicas\, Coffee & Connections
DESCRIPTION:Whether you’re building something on your \nWhether you’re building something on your own\, growing a business\, or leading a team\, our monthly coffee meetup is a space to connect with thoughtful\, like-minded women. \nThis relaxed but purposeful gathering is about real conversations—sharing insights\, exchanging experiences\, and learning from one another as we navigate work and life. \nWe’ll start with a casual speed networking session: short\, one-on-one rounds designed to make meeting new people feel easy and natur​al. \nCome for the coffee\, stay for the connection. \nown\, growing a business\, or leading a team\, our monthly coffee meetup is a space to connect with thoughtful\, like-minded women. \nThis relaxed but purposeful gathering is about real conversations—sharing insights\, exchanging experiences\, and learning from one another as we navigate work and life. \nWe’ll start with a casual speed networking session: short\, one-on-one rounds designed to make meeting new people feel easy and natur​al. \nCome for the coffee\, stay for the connection.
URL:https://haabproject.com/event/wild-well-chicas-coffee-connections/
LOCATION:HAAB\, Amsterdam 255\, CDMX\, Ciudad de México\, 06100\, Mexico
CATEGORIES:Social,Social
ATTACH;FMTTYPE=image/jpeg:https://haabproject.com/wp-content/uploads/2025/05/WILD-AND-WELL-WEB.jpg
END:VEVENT
BEGIN:VEVENT
DTSTART;TZID=America/Mexico_City:20250614T110000
DTEND;TZID=America/Mexico_City:20250614T160000
DTSTAMP:20260419T211803
CREATED:20250528T222708Z
LAST-MODIFIED:20250612T191722Z
UID:10000753-1749898800-1749916800@haabproject.com
SUMMARY:Breakfast at Tiffany's
DESCRIPTION:Breakfast at Tiffany’s: Brunch Social & Dance \n11AM – 4PM | Curated Cocktails. Decadent Vibes. Dancefloor-Ready. \nSlip into something silky and step into a mid-morning mood that lingers long past noon. Breakfast at Tiffany’s isn’t just brunch — it’s a swanky\, soulful social escape designed for those who crave connection\, conversation\, and just the right groove to move. \nExpect a sonic journey from three live DJs spinning the smoothest soul\, funk\, disco\, afro\, and house beats — the kind that kiss your ears and pull you straight to the dancefloor. Think velvet rhythms\, sunlit swagger\, and that “just one more song” kind of vibe. \n✨ Signature Sips: Enjoy a bespoke cocktail menu made to match your mood. \n✨ The Vibe: Sultry. Sophisticated. Social. Whether you’re networking\, flirting\, or simply floating from one fabulous conversation to the next\, this is your place to shine. \n👗 DRESS TO IMPRESS Swanky festival glam. Retro-chic Sunday’s Best. Funkadelic fashion. Afro-lux street style. Channel your inner icon and bring your boldest brunch look — whatever makes you feel smooth\, sultry\, and unapologetically stylish. \n*One free welcome drink* \nCome for the networking. Stay for the beats.
URL:https://haabproject.com/event/breakfast-at-tiffanys/
LOCATION:HAAB\, Amsterdam 255\, CDMX\, Ciudad de México\, 06100\, Mexico
CATEGORIES:Social,Social
ATTACH;FMTTYPE=image/jpeg:https://haabproject.com/wp-content/uploads/2025/04/TIFF-WEB-2.jpg
END:VEVENT
BEGIN:VEVENT
DTSTART;TZID=America/Mexico_City:20250620T190000
DTEND;TZID=America/Mexico_City:20250620T210000
DTSTAMP:20260419T211803
CREATED:20250529T051904Z
LAST-MODIFIED:20250529T193659Z
UID:10000763-1750446000-1750453200@haabproject.com
SUMMARY:SOULSTICE: Concert of Light
DESCRIPTION:Join us for an immersive and elevated experience that blends ancestral music\, vocal \nalchemy \, and solar breathwork to celebrate the Summer Solstice. This unique concert invites \nyou on a guided journey that begins with a collective breath activation to harmonize body \, \nmind\, and heart\, opening us to a state of deep receptivity . From there\, we enter a ceremonial \nsoundscape where the voice weaves with sacred strings and rhythms brought by guest \nmusicians\, evoking the essence of the solstice through songs from various world traditions.
URL:https://haabproject.com/event/soulstice-concert-of-light/
LOCATION:HAAB\, Amsterdam 255\, CDMX\, Ciudad de México\, 06100\, Mexico
CATEGORIES:Bienestar,Social,Wellness
ATTACH;FMTTYPE=image/png:https://haabproject.com/wp-content/uploads/2025/05/SOULSTICE-WEB-2.png
END:VEVENT
BEGIN:VEVENT
DTSTART;TZID=America/Mexico_City:20250621T110000
DTEND;TZID=America/Mexico_City:20250622T203000
DTSTAMP:20260419T211803
CREATED:20250528T200745Z
LAST-MODIFIED:20250528T200745Z
UID:10000769-1750503600-1750624200@haabproject.com
SUMMARY:Archivo Vintach
DESCRIPTION:Colectivo circular donde podrán encontrar la mejor curaduría vintage\, upcycling y marcas locales. Además tendremos workshops durante todo el fin de semana. Ven y únete a nuestra comunidad.
URL:https://haabproject.com/event/archivo-vintach-11/
LOCATION:HAAB\, Amsterdam 255\, CDMX\, Ciudad de México\, 06100\, Mexico
CATEGORIES:Social,Social
ATTACH;FMTTYPE=image/jpeg:https://haabproject.com/wp-content/uploads/2025/05/ARCHVIO-WEB.jpg
END:VEVENT
BEGIN:VEVENT
DTSTART;TZID=America/Mexico_City:20250711T093000
DTEND;TZID=America/Mexico_City:20250711T123000
DTSTAMP:20260419T211803
CREATED:20250624T014206Z
LAST-MODIFIED:20250624T014206Z
UID:10000776-1752226200-1752237000@haabproject.com
SUMMARY:Wild & Well: Chicas\, Coffee & Connections
DESCRIPTION:Whether you’re building something on your \nWhether you’re building something on your own\, growing a business\, or leading a team\, our monthly coffee meetup is a space to connect with thoughtful\, like-minded women. \nThis relaxed but purposeful gathering is about real conversations—sharing insights\, exchanging experiences\, and learning from one another as we navigate work and life. \nWe’ll start with a casual speed networking session: short\, one-on-one rounds designed to make meeting new people feel easy and natur​al. \nCome for the coffee\, stay for the connection. \nown\, growing a business\, or leading a team\, our monthly coffee meetup is a space to connect with thoughtful\, like-minded women. \nThis relaxed but purposeful gathering is about real conversations—sharing insights\, exchanging experiences\, and learning from one another as we navigate work and life. \nWe’ll start with a casual speed networking session: short\, one-on-one rounds designed to make meeting new people feel easy and natur​al. \nCome for the coffee\, stay for the connection.
URL:https://haabproject.com/event/wild-well-chicas-coffee-connections-2/
LOCATION:HAAB\, Amsterdam 255\, CDMX\, Ciudad de México\, 06100\, Mexico
CATEGORIES:Social,Social
ATTACH;FMTTYPE=image/jpeg:https://haabproject.com/wp-content/uploads/2025/06/WILD-AND-WELL-APP.jpg
END:VEVENT
BEGIN:VEVENT
DTSTART;TZID=America/Mexico_City:20250816T110000
DTEND;TZID=America/Mexico_City:20250817T203000
DTSTAMP:20260419T211803
CREATED:20250730T144337Z
LAST-MODIFIED:20250730T144337Z
UID:10000796-1755342000-1755462600@haabproject.com
SUMMARY:Archivo Vintach
DESCRIPTION:Colectivo circular donde podrán encontrar la mejor curaduría vintage\, upcycling y marcas locales. Además tendremos workshops durante todo el fin de semana. Ven y únete a nuestra comunidad.
URL:https://haabproject.com/event/archivo-vintach-12/
LOCATION:HAAB\, Amsterdam 255\, CDMX\, Ciudad de México\, 06100\, Mexico
CATEGORIES:Social,Social
ATTACH;FMTTYPE=image/jpeg:https://haabproject.com/wp-content/uploads/2025/07/ARCHVIO-WEB-1.jpg
END:VEVENT
BEGIN:VEVENT
DTSTART;TZID=America/Mexico_City:20250920T110000
DTEND;TZID=America/Mexico_City:20250921T203000
DTSTAMP:20260419T211803
CREATED:20250813T190337Z
LAST-MODIFIED:20250813T190337Z
UID:10000804-1758366000-1758486600@haabproject.com
SUMMARY:Archivo Vintach
DESCRIPTION:Colectivo circular donde podrán encontrar la mejor curaduría vintage\, upcycling y marcas locales. Además tendremos workshops durante todo el fin de semana. Ven y únete a nuestra comunidad.
URL:https://haabproject.com/event/archivo-vintach-13/
LOCATION:HAAB\, Amsterdam 255\, CDMX\, Ciudad de México\, 06100\, Mexico
CATEGORIES:Social,Social
ATTACH;FMTTYPE=image/jpeg:https://haabproject.com/wp-content/uploads/2025/08/ARCHIVO-WEB.jpg
END:VEVENT
BEGIN:VEVENT
DTSTART;TZID=America/Mexico_City:20250927T120000
DTEND;TZID=America/Mexico_City:20250927T160000
DTSTAMP:20260419T211803
CREATED:20250817T182243Z
LAST-MODIFIED:20250908T202853Z
UID:10000810-1758974400-1758988800@haabproject.com
SUMMARY:Breakfast at Tiffany's
DESCRIPTION:Breakfast at Tiffany’s: Brunch Social & Dance \n12 PM – 4 PM | Curated Cocktails. Decadent Vibes. Dancefloor-Ready. \nSlip into something silky and step into a mid-morning mood that lingers long past noon. Breakfast at Tiffany’s isn’t just brunch — it’s a swanky\, soulful social escape designed for those who crave connection\, conversation\, and just the right groove to move. \nExpect a sonic journey from three live DJs spinning the smoothest soul\, funk\, disco\, afro\, and house beats — the kind that kiss your ears and pull you straight to the dancefloor. Think velvet rhythms\, sunlit swagger\, and that “just one more song” kind of vibe. \n✨ Signature Sips: Enjoy a bespoke cocktail menu made to match your mood. \n✨ The Vibe: Sultry. Sophisticated. Social. Whether you’re networking\, flirting\, or simply floating from one fabulous conversation to the next\, this is your place to shine. \n👗 DRESS TO IMPRESS Swanky festival glam. Retro-chic Sunday’s Best. Funkadelic fashion. Afro-lux street style. Channel your inner icon and bring your boldest brunch look — whatever makes you feel smooth\, sultry\, and unapologetically stylish. \n“Brunch and drinks are not included\, but available for purchase” \nCome for the networking. Stay for the beats.
URL:https://haabproject.com/event/breakfast-at-tiffanys-2/
LOCATION:HAAB\, Amsterdam 255\, CDMX\, Ciudad de México\, 06100\, Mexico
CATEGORIES:Social,Social
ATTACH;FMTTYPE=image/jpeg:https://haabproject.com/wp-content/uploads/2025/08/IMG_2269.jpeg
END:VEVENT
BEGIN:VEVENT
DTSTART;TZID=America/Mexico_City:20251004T190000
DTEND;TZID=America/Mexico_City:20251004T223000
DTSTAMP:20260419T211803
CREATED:20250922T203902Z
LAST-MODIFIED:20250923T194210Z
UID:10000814-1759604400-1759617000@haabproject.com
SUMMARY:Stand Up - Comedia en tiempos de ansiedad
DESCRIPTION:2×1 en cervezas de 7 a 8 pm !!! \nVen a reír a carcajadas con el mejor talento de la comedia en México\, en una noche diferente! \nNuestro Stand Up night tiene como headliners a los mejores comediantes de México\, y también introduce al nuevo talento de la escena del Stand Up en México.  Ven a disfrutar de rutinas\, cabareteo y roasts en esta noche diferente y original para disfrutar de la comedia!
URL:https://haabproject.com/event/stand-up-comedia-en-tiempos-de-ansiedad/
LOCATION:HAAB\, Amsterdam 255\, CDMX\, Ciudad de México\, 06100\, Mexico
CATEGORIES:Social
ATTACH;FMTTYPE=image/jpeg:https://haabproject.com/wp-content/uploads/2025/09/IMG_2554.jpeg
END:VEVENT
BEGIN:VEVENT
DTSTART;TZID=America/Mexico_City:20251016T180000
DTEND;TZID=America/Mexico_City:20251016T200000
DTSTAMP:20260419T211803
CREATED:20250923T204141Z
LAST-MODIFIED:20251003T155753Z
UID:10000821-1760637600-1760644800@haabproject.com
SUMMARY:Beauty&Earth
DESCRIPTION:En Beauty and Earth crearemos tu propio ritual de belleza natural\, con fórmulas ancestrales y contemporáneas que honran a la Tierra: \n🌿 Shampoo herbal artesanal\n🌿 Kohl\, el delineador ancestral\n🌿 Rímel como pigmento natural\n🌿 Scrub anti-celulitis\n🌿 Perfume de feromonas\n🌿 Blush con pigmentos vegetales \nSerá un espacio lleno de magia\, donde cada preparación se convierte en un acto de conexión con la naturaleza.
URL:https://haabproject.com/event/beautyearth/
LOCATION:HAAB\, Amsterdam 255\, CDMX\, Ciudad de México\, 06100\, Mexico
CATEGORIES:Social
ATTACH;FMTTYPE=image/jpeg:https://haabproject.com/wp-content/uploads/2025/09/IMG_2648.jpeg
END:VEVENT
BEGIN:VEVENT
DTSTART;TZID=America/Mexico_City:20251018T110000
DTEND;TZID=America/Mexico_City:20251019T203000
DTSTAMP:20260419T211803
CREATED:20250924T043940Z
LAST-MODIFIED:20250924T043940Z
UID:10000824-1760785200-1760905800@haabproject.com
SUMMARY:Archivo Vintach
DESCRIPTION:Colectivo circular donde podrán encontrar la mejor curaduría vintage\, upcycling y marcas locales. Además tendremos workshops durante todo el fin de semana. Ven y únete a nuestra comunidad.
URL:https://haabproject.com/event/archivo-vintach-14/
LOCATION:HAAB\, Amsterdam 255\, CDMX\, Ciudad de México\, 06100\, Mexico
CATEGORIES:Social,Social
ATTACH;FMTTYPE=image/jpeg:https://haabproject.com/wp-content/uploads/2025/09/ARCHIVO-WEB.jpg
END:VEVENT
BEGIN:VEVENT
DTSTART;TZID=America/Mexico_City:20251025T150000
DTEND;TZID=America/Mexico_City:20251025T230000
DTSTAMP:20260419T211803
CREATED:20250923T205604Z
LAST-MODIFIED:20250925T221837Z
UID:10000822-1761404400-1761433200@haabproject.com
SUMMARY:Electronic Day Signos x HAAB
DESCRIPTION:🌙 Signos Sessions at Haab Project \nIn the heart of Mexico City\, Haab Project becomes a sonic sanctuary where electronic music flows like pure energy. \nLet the vibrations guide you as we share a journey of connection\, dance\, and freedom — a celebration of the present moment where art\, beats\, and souls align on the same frequency. \n💫 Cosmic Lineup \nJimeno(Planet Dancer/Piknik) \nBrunnä \nZoe Malavida (Soul in Beats) \nGayoso (Signos) \nAn evening to open your heart\, move your body\, and immerse yourself in the magic that only the Signos Sessions community can create.
URL:https://haabproject.com/event/electronic-day-signos-x-haab/
LOCATION:HAAB\, Amsterdam 255\, CDMX\, Ciudad de México\, 06100\, Mexico
CATEGORIES:Social
ATTACH;FMTTYPE=image/jpeg:https://haabproject.com/wp-content/uploads/2025/09/IMG_2562.jpeg
END:VEVENT
BEGIN:VEVENT
DTSTART;TZID=America/Mexico_City:20251129T110000
DTEND;TZID=America/Mexico_City:20251130T203000
DTSTAMP:20260419T211803
CREATED:20251021T013832Z
LAST-MODIFIED:20251030T214603Z
UID:10000838-1764414000-1764534600@haabproject.com
SUMMARY:Archivo Vintach
DESCRIPTION:Colectivo circular donde podrán encontrar la mejor curaduría vintage\, upcycling y marcas locales. Además tendremos workshops durante todo el fin de semana. Ven y únete a nuestra comunidad.
URL:https://haabproject.com/event/archivo-vintach-15/
LOCATION:HAAB\, Amsterdam 255\, CDMX\, Ciudad de México\, 06100\, Mexico
CATEGORIES:Social,Social
ATTACH;FMTTYPE=image/jpeg:https://haabproject.com/wp-content/uploads/2025/10/ARCHIVO-WEB-2.jpg
END:VEVENT
BEGIN:VEVENT
DTSTART;TZID=America/Mexico_City:20251213T110000
DTEND;TZID=America/Mexico_City:20251214T203000
DTSTAMP:20260419T211803
CREATED:20251127T042913Z
LAST-MODIFIED:20251127T042913Z
UID:10000850-1765623600-1765744200@haabproject.com
SUMMARY:Archivo Vintach
DESCRIPTION:Colectivo circular donde podrán encontrar la mejor curaduría vintage\, upcycling y marcas locales. Además tendremos workshops durante todo el fin de semana. Ven y únete a nuestra comunidad.
URL:https://haabproject.com/event/archivo-vintach-16/
LOCATION:HAAB\, Amsterdam 255\, CDMX\, Ciudad de México\, 06100\, Mexico
CATEGORIES:Social,Social
ATTACH;FMTTYPE=image/jpeg:https://haabproject.com/wp-content/uploads/2025/11/ARCHIVO-WEB.jpg
END:VEVENT
BEGIN:VEVENT
DTSTART;TZID=America/Mexico_City:20251220T110000
DTEND;TZID=America/Mexico_City:20251221T203000
DTSTAMP:20260419T211803
CREATED:20251127T043159Z
LAST-MODIFIED:20251127T043159Z
UID:10000847-1766228400-1766349000@haabproject.com
SUMMARY:Archivo Vintach
DESCRIPTION:Colectivo circular donde podrán encontrar la mejor curaduría vintage\, upcycling y marcas locales. Además tendremos workshops durante todo el fin de semana. Ven y únete a nuestra comunidad.
URL:https://haabproject.com/event/archivo-vintach-17/
LOCATION:HAAB\, Amsterdam 255\, CDMX\, Ciudad de México\, 06100\, Mexico
CATEGORIES:Social,Social
ATTACH;FMTTYPE=image/jpeg:https://haabproject.com/wp-content/uploads/2025/11/ARCHIVO-WEB-1.jpg
END:VEVENT
BEGIN:VEVENT
DTSTART;TZID=America/Mexico_City:20260124T110000
DTEND;TZID=America/Mexico_City:20260125T200000
DTSTAMP:20260419T211803
CREATED:20260108T161320Z
LAST-MODIFIED:20260108T161320Z
UID:10000872-1769252400-1769371200@haabproject.com
SUMMARY:Archivo Vintach
DESCRIPTION:Colectivo circular donde podrán encontrar la mejor curaduría vintage\, upcycling y marcas locales. Además tendremos workshops durante todo el fin de semana. Ven y únete a nuestra comunidad.
URL:https://haabproject.com/event/archivo-vintach-18/
LOCATION:HAAB\, Amsterdam 255\, CDMX\, Ciudad de México\, 06100\, Mexico
CATEGORIES:Social
ATTACH;FMTTYPE=image/jpeg:https://haabproject.com/wp-content/uploads/2026/01/ARCHIVO-WEB.jpg
END:VEVENT
BEGIN:VEVENT
DTSTART;TZID=America/Mexico_City:20260130T190000
DTEND;TZID=America/Mexico_City:20260130T230000
DTSTAMP:20260419T211803
CREATED:20260117T000012Z
LAST-MODIFIED:20260119T011743Z
UID:10000875-1769799600-1769814000@haabproject.com
SUMMARY:Casa Nodo: Art\, grooves and design
DESCRIPTION:Ven y disfruta una tarde de música\, drinks y arte en vivo rodead@ de talento creativo.\n¡Tu ticket de entrada es una oportunidad para ganarte la obra de arte hecha en el spot!
URL:https://haabproject.com/event/casa-nodo-art-grooves-and-design-2/
LOCATION:HAAB\, Amsterdam 255\, CDMX\, Ciudad de México\, 06100\, Mexico
CATEGORIES:Arte y Cultura,Social
ATTACH;FMTTYPE=image/jpeg:https://haabproject.com/wp-content/uploads/2026/01/IMG_2744.jpeg
END:VEVENT
BEGIN:VEVENT
DTSTART;TZID=America/Mexico_City:20260205T170000
DTEND;TZID=America/Mexico_City:20260205T230000
DTSTAMP:20260419T211803
CREATED:20260109T150926Z
LAST-MODIFIED:20260205T225647Z
UID:10000873-1770310800-1770332400@haabproject.com
SUMMARY:HAAB Art Week Thursday 05
DESCRIPTION:Art Week at HAAB is more than just art or parties.It’s an immersive experience where dualities turn into energy\, community\, and culture. \nFor Art Week 2026\, we transform all six floors of HAAB with works by over 10 artists\, curated in collaboration with Art Triggeria and our community—then we close each night with iconic parties and international DJs. \nArt by day. Parties by night. \nLINEUPMADMOTORMIQUELSTEVEY RICKS · ANDSEP · BRANDOLINO \nARTISTS – “CARTOGRAFÍA DEL SER”Ana ArmitageCampalCarolina BarriosCecilia VazquezKarla Rojo de la Vega\nLuis Díaz gordoa\nMaru Stahl\nMateo PizarroMonica FigueroaSamantha MichellVENA2\nVasilisa ForbesVictoria Cuevas \nErick Estrada presents: “Portraits”Thursday 5th: IncandescenceFriday 6th: Ultraviolet
URL:https://haabproject.com/event/artweek-haab-2026/
LOCATION:HAAB\, Amsterdam 255\, CDMX\, Ciudad de México\, 06100\, Mexico
CATEGORIES:Art & Culture,Social
ATTACH;FMTTYPE=image/jpeg:https://haabproject.com/wp-content/uploads/2026/01/ART-WEEK-05-WEB.jpg
END:VEVENT
BEGIN:VEVENT
DTSTART;TZID=America/Mexico_City:20260206T170000
DTEND;TZID=America/Mexico_City:20260206T230000
DTSTAMP:20260419T211803
CREATED:20260109T153034Z
LAST-MODIFIED:20260206T155822Z
UID:10000874-1770397200-1770418800@haabproject.com
SUMMARY:HAAB Art Week Friday 06
DESCRIPTION:Art Week at HAAB is more than just art or parties.It’s an immersive experience celebrating the space where dualities become energy\, community\, and culture. \nFor Art Week 2026\, we transform all six floors of HAAB with works by over 10 artists\, curated in collaboration with Art Triggeria and our community—then we close each night with iconic parties and international DJs. \nArt by day. Parties by night. \nLINEUPSatoshi Tomiie — all vinylTau CarHenry & Milow \nARTISTS – “CARTOGRAFÍA DEL SER”Ana ArmitageCampalCarolina BarriosCecilia VazquezKarla Rojo de la Vega\nLuis Díaz gordoa\nMaru Stahl\nMateo PizarroMonica FigueroaSamantha MichellVENA2\nVasilisa ForbesVictoria Cuevas \nErick Estrada presents: “Portraits”Thursday 5th: IncandescenceFriday 6th: Ultraviolet
URL:https://haabproject.com/event/haab-artweek-viernes-05/
LOCATION:HAAB\, Amsterdam 255\, CDMX\, Ciudad de México\, 06100\, Mexico
CATEGORIES:Art & Culture,Social
ATTACH;FMTTYPE=image/jpeg:https://haabproject.com/wp-content/uploads/2026/01/AE-WEEK-06-WEB.jpg
END:VEVENT
END:VCALENDAR