BEGIN:VCALENDAR
VERSION:2.0
PRODID:-//HAAB Project - ECPv6.15.20//NONSGML v1.0//EN
CALSCALE:GREGORIAN
METHOD:PUBLISH
X-WR-CALNAME:HAAB Project
X-ORIGINAL-URL:https://haabproject.com
X-WR-CALDESC:Events for HAAB Project
REFRESH-INTERVAL;VALUE=DURATION:PT1H
X-Robots-Tag:noindex
X-PUBLISHED-TTL:PT1H
BEGIN:VTIMEZONE
TZID:America/Mexico_City
BEGIN:STANDARD
TZOFFSETFROM:-0600
TZOFFSETTO:-0600
TZNAME:CST
DTSTART:20240101T000000
END:STANDARD
END:VTIMEZONE
BEGIN:VEVENT
DTSTART;TZID=America/Mexico_City:20250326T180000
DTEND;TZID=America/Mexico_City:20250326T210000
DTSTAMP:20260419T164315
CREATED:20250311T163008Z
LAST-MODIFIED:20250311T163008Z
UID:10000717-1743012000-1743022800@haabproject.com
SUMMARY:DBM Bright Minds Session: Connect\, Learn & Aperitivo.  Sponsored by VETZ - Aperitivo Superiore
DESCRIPTION:Join us on Wednesday\, March 26th\, for an evening of insightful conversations\, networking\, and great drinks! \n🎙We’ll start with a podcast-style interview featuring a top-tier Mexican expert (name revealed soon!)\, who will share valuable insights\, experiences\, and perspectives on the evolving business landscape in Mexico and beyond. \nExpect deep takeaways into success strategies\, market opportunities\, and key trends shaping Mexico and beyond. \n🍸 After the interview\, enjoy our signature Aperitivo\, now sponsored by VETZ – Aperitivo Superiore! \nConnect with fellow entrepreneurs\, investors\, and business leaders while savoring premium Italian flavors in the vibrant setting of HAAB Condesa. \nABOUT US: We are DOING BUSINESS IN MEXICO 🇲🇽: the Community of minds\, mavericks and leaders from Mexico and abroad with one common objective: \nHelping each other seize the opportunities this amazing country has to offer. \nJoin our Community to: \n-Share your business ideas and receive valuable feedback. \n-Access practical assistance and support from our diverse members and industry experts. \n-Connect with potential investors in our network. \n-Gain insights into local market conditions\, social customs\, and consumer behaviours. \n-Meet like-minded individuals and who knows… your next business partner!
URL:https://haabproject.com/event/dbm-bright-minds-session-connect-learn-aperitivo-sponsored-by-vetz-aperitivo-superiore/
LOCATION:HAAB\, Amsterdam 255\, CDMX\, Ciudad de México\, 06100\, Mexico
CATEGORIES:Innovación y conocimiento,Innovation & Knowledge,Social,Social
ATTACH;FMTTYPE=image/jpeg:https://haabproject.com/wp-content/uploads/2025/02/DBMX-WEB-1.jpg
END:VEVENT
BEGIN:VEVENT
DTSTART;TZID=America/Mexico_City:20250429T180000
DTEND;TZID=America/Mexico_City:20250429T210000
DTSTAMP:20260419T164315
CREATED:20250328T174018Z
LAST-MODIFIED:20250429T224858Z
UID:10000725-1745949600-1745960400@haabproject.com
SUMMARY:Innovation Talks: Let's keep on doing what we do best and let AI do the rest
DESCRIPTION:Join us for an insightful Innovation Talk with Sasha Glatt and Jacobo Buzali\, where they’ll share their expertise on effectively integrating AI into our professional and creative lives. Drawing from her experience as a co-founder at Violetta and her current role in growth at Scale AI\, Sasha will reveal how domain expertise combined with AI capabilities can transform industries. Complementing this perspective\, Jacobo\, CEO of Insight\, will share how his platform leverages AI to help over 600 schools across Latin America integrate social-emotional learning in the classroom\, demonstrating how technology can enhance human-centered education. \nA practical guide to crafting effective AI prompts \nThe critical importance of quality data in AI applications \nHow domain experts across industries can leverage AI as a powerful tool \nReal-world examples from art\, finance\, design\, healthcare\, education\, and more \nLessons from building startups that harness AI while preserving essential human expertise \nWhether you’re a creative professional\, entrepreneur\, educator\, or simply interested in the future of technology and human collaboration\, this talk will provide valuable insights to help you navigate the evolving landscape of AI integration while maintaining focus on your domain expertise.
URL:https://haabproject.com/event/innovation-talks-2/
LOCATION:HAAB\, Amsterdam 255\, CDMX\, Ciudad de México\, 06100\, Mexico
CATEGORIES:Innovación y conocimiento,Innovation & Knowledge
ATTACH;FMTTYPE=image/jpeg:https://haabproject.com/wp-content/uploads/2025/03/INNOVATION-DAY-WEB-1-1.jpg
END:VEVENT
BEGIN:VEVENT
DTSTART;TZID=America/Mexico_City:20250515T180000
DTEND;TZID=America/Mexico_City:20250515T210000
DTSTAMP:20260419T164315
CREATED:20250429T131109Z
LAST-MODIFIED:20250429T131109Z
UID:10000758-1747332000-1747342800@haabproject.com
SUMMARY:Innovation Leaders Meetup
DESCRIPTION:La próxima edición de Innovation Leaders Meetup se llevará a cabo el jueves 15 de mayo en la colonia Condesa de Ciudad de México. \nEsta es una iniciativa en la que\, bimensualmente\, la comunidad del podcast Cuando El Río Suena (conformada por +190 fundadores\, operadores e inversioninstas de empresas y corporativos tech) se reúne para compartir conocimiento y conectar. \nSe impartirán 3 charlas alrededor de cómo construir productos digitales o cómo implementar tecnología en tu organización. \nPonentes:\n– Monserrat Reyes (Engineering Director en Clara)\n– ⁠Sebastián Prida (CEO en Medu)\n– ⁠Victor Lima (CTO en UnDosTres)\n– ⁠Artemio Pedraza y Rodrigo Salmerón (CEO Y COO en Acueducto) \nEl evento es gratuito y abierto a cualquiera persona\, lo único que hay que hacer es registrarse en https://acueducto.studio/meetup \nTe invitamos a conectar y aprender\, la primer ronda de tragos y refrigerios corre a cuenta de Acueducto.
URL:https://haabproject.com/event/innovation-leaders-meetup/
LOCATION:HAAB\, Amsterdam 255\, CDMX\, Ciudad de México\, 06100\, Mexico
CATEGORIES:Innovación y conocimiento,Innovation & Knowledge
ATTACH;FMTTYPE=image/jpeg:https://haabproject.com/wp-content/uploads/2025/04/INNOVATION-LEADER-WEB.jpg
END:VEVENT
BEGIN:VEVENT
DTSTART;TZID=America/Mexico_City:20250520T180000
DTEND;TZID=America/Mexico_City:20250520T200000
DTSTAMP:20260419T164315
CREATED:20250506T003644Z
LAST-MODIFIED:20250506T003818Z
UID:10000749-1747764000-1747771200@haabproject.com
SUMMARY:Innovation Talks: An Unconventional Approach To The Art Of Success & Contribution
DESCRIPTION:Most people chase success the hard way – grinding inch by inch\, burning out along the way and still not getting where they want to go. But what if there was a smarter\, more easeful\, more predictable path that actually led to bigger\, faster\, jaw-dropping results? \nElite coaches Mark Krassner and Flo Hart have guided dozens of entrepreneurs and creators through life-changing transformations – without sacrificing their health\, sanity\, or soul. Their clients have: \n\nEarned tens of millions of dollars\nGrown businesses by 300% in a single year while working less\nLaunched a record label and landed tracks with Tiësto\, Steve Aoki\, and Pitbull\n\nMark (2x founder and CEO whisperer) and Flo (entrepreneur\, performance coach\, and 3\,000+ hour meditator) will guide you through the same unconventional practices that have fueled these breakthroughs. \nIn this experiential workshop\, you’ll learn how to: \n\nSync your biology with your ambition – create peak states through nervous system regulation\nActivate heart-brain coherence to boost intuition\, HRV\, and resilience under pressure\nMaster emotional sovereignty – move from reactivity to powerful presence\nHarness the non-linear magic of alignment  – where the right move changes everything\nSpot misalignment in real-time and pivot into deeply aligned action\n\nThis isn’t about working harder. It’s about understanding cause and effect in a new\, more accurate way and reaping the rewards. \nCome ready to disrupt how you operate. Leave with tools that will elevate your performance\, relationships\, and quality of life.
URL:https://haabproject.com/event/innovation-talks-an-unconventional-approach-to-the-art-of-success-contribution/
LOCATION:HAAB\, Amsterdam 255\, CDMX\, Ciudad de México\, 06100\, Mexico
CATEGORIES:Innovación y conocimiento,Innovation & Knowledge
ATTACH;FMTTYPE=image/jpeg:https://haabproject.com/wp-content/uploads/2025/05/INNOVATION-20-WEB.jpg
END:VEVENT
BEGIN:VEVENT
DTSTART;TZID=America/Mexico_City:20251011T170000
DTEND;TZID=America/Mexico_City:20251011T190000
DTSTAMP:20260419T164315
CREATED:20250926T234334Z
LAST-MODIFIED:20250926T234334Z
UID:10000828-1760202000-1760209200@haabproject.com
SUMMARY:HRMNY Ambient Therapy
DESCRIPTION:Immersive Sound Journey con Silent Disco headphones junto a Nathaniel Eras\, explorando texturas electrónicas y ambientes sonoros transformadores. \n• Workshop: Presence & Power – guiado por Larissa Bel (HRMNY) \n– Breathwork + Eye Gazing Ritual → práctica para volver al presente\, equilibrar la energía y abrir un espacio de claridad. \n• Creative Café con adaptógenos de Fábrica de Poderes x HRMNY: \n– Mini charla con Nathaniel Eras & Larissa Bel sobre Burnout Creativo: cuando el arte te consume en lugar de expandirte. \n– Espacio de integración y networking consciente entre creativos.
URL:https://haabproject.com/event/hrmny-ambient-therapy/
LOCATION:HAAB\, Amsterdam 255\, CDMX\, Ciudad de México\, 06100\, Mexico
CATEGORIES:Arte y Cultura,Euphoric,Innovation & Knowledge
ATTACH;FMTTYPE=image/jpeg:https://haabproject.com/wp-content/uploads/2025/09/IMG_2585.jpeg
END:VEVENT
BEGIN:VEVENT
DTSTART;TZID=America/Mexico_City:20251113T170000
DTEND;TZID=America/Mexico_City:20251113T190000
DTSTAMP:20260419T164315
CREATED:20251022T044310Z
LAST-MODIFIED:20251110T170526Z
UID:10000840-1763053200-1763060400@haabproject.com
SUMMARY:Entrepreneurs Anonymous Vol. II
DESCRIPTION:This month\, we’re levelling up. Our guest speaker will be confessing their biggest biz disasters\, AND how they turned out to be key ingredients to their success! Take this as the ultimate permission slip to do business messy\, scared\, unfiltered\, chaotic\, knowing that your success actually depends on the lessons from your failures!”\nExpect this event to be raw\, real\, and full of ideas and connections that keep you failing forward.Then it’s your turn. We’ll crack open the conversation about the present tense – what’s keeping you awake at night right now\, not just the mistakes in your rear-view mirror.\nForget awkward networking and sticky name badges. This is the antidote: a room full of founders who get it.We trade perfection for progress\, swap failure stories for insight\, and turn collective chaos into one hell of a toolkit for growth.
URL:https://haabproject.com/event/anonymous-entrepreneurs-vol-ii/
LOCATION:HAAB\, Amsterdam 255\, CDMX\, Ciudad de México\, 06100\, Mexico
CATEGORIES:Innovation & Knowledge
ATTACH;FMTTYPE=image/jpeg:https://haabproject.com/wp-content/uploads/2025/10/anonymous-WEB-2.jpg
END:VEVENT
BEGIN:VEVENT
DTSTART;TZID=America/Mexico_City:20260122T170000
DTEND;TZID=America/Mexico_City:20260122T190000
DTSTAMP:20260419T164315
CREATED:20251219T152512Z
LAST-MODIFIED:20251219T153238Z
UID:10000864-1769101200-1769108400@haabproject.com
SUMMARY:Entrepreneurs Anonymous Vol. IV
DESCRIPTION:This month\, we’re levelling up. Our guest speaker will take you behind the curtain of their biggest business disasters — the kind that make great war stories after the smoke clears. Expect it raw\, real\, and ridiculously valuable.\nThen it’s your turn. We’ll crack open the conversation about the present tense — what’s keeping you awake at night right now\, not just the mistakes in your rear-view mirror. \nForget awkward networking and sticky name badges. This is the antidote: a room full of founders who get it. We trade perfection for progress\, swap failure stories for insight\, and turn collective chaos into one hell of a toolkit for growth.
URL:https://haabproject.com/event/entrepreneurs-anonymous-vol-iv/
LOCATION:HAAB\, Amsterdam 255\, CDMX\, Ciudad de México\, 06100\, Mexico
CATEGORIES:Innovation & Knowledge
ATTACH;FMTTYPE=image/jpeg:https://haabproject.com/wp-content/uploads/2025/12/ANONYMOUS-WEB.jpg
END:VEVENT
BEGIN:VEVENT
DTSTART;TZID=America/Mexico_City:20260325T170000
DTEND;TZID=America/Mexico_City:20260325T190000
DTSTAMP:20260419T164315
CREATED:20260219T224959Z
LAST-MODIFIED:20260219T224959Z
UID:10000891-1774458000-1774465200@haabproject.com
SUMMARY:Entrepreneurs Anonymous Vol. VI
DESCRIPTION:This month\, we’re levelling up. Our guest speaker will take you behind the curtain of their biggest business disasters — the kind that make great war stories after the smoke clears. Expect it raw\, real\, and ridiculously valuable.\nThen it’s your turn. We’ll crack open the conversation about the present tense — what’s keeping you awake at night right now\, not just the mistakes in your rear-view mirror. \nForget awkward networking and sticky name badges. This is the antidote: a room full of founders who get it. We trade perfection for progress\, swap failure stories for insight\, and turn collective chaos into one hell of a toolkit for growth.
URL:https://haabproject.com/event/entrepreneurs-anonymous-vol-vi/
LOCATION:HAAB\, Amsterdam 255\, CDMX\, Ciudad de México\, 06100\, Mexico
CATEGORIES:Innovation & Knowledge
ATTACH;FMTTYPE=image/jpeg:https://haabproject.com/wp-content/uploads/2026/02/ANONYMOUS-WEB-1.jpg
END:VEVENT
END:VCALENDAR