BEGIN:VCALENDAR
VERSION:2.0
PRODID:-//HAAB Project - ECPv6.15.20//NONSGML v1.0//EN
CALSCALE:GREGORIAN
METHOD:PUBLISH
X-WR-CALNAME:HAAB Project
X-ORIGINAL-URL:https://haabproject.com
X-WR-CALDESC:Events for HAAB Project
REFRESH-INTERVAL;VALUE=DURATION:PT1H
X-Robots-Tag:noindex
X-PUBLISHED-TTL:PT1H
BEGIN:VTIMEZONE
TZID:America/Mexico_City
BEGIN:STANDARD
TZOFFSETFROM:-0600
TZOFFSETTO:-0600
TZNAME:CST
DTSTART:20240101T000000
END:STANDARD
END:VTIMEZONE
BEGIN:VEVENT
DTSTART;TZID=America/Mexico_City:20250513T193000
DTEND;TZID=America/Mexico_City:20250513T213000
DTSTAMP:20260420T004243
CREATED:20250428T190052Z
LAST-MODIFIED:20250428T190052Z
UID:10000741-1747164600-1747171800@haabproject.com
SUMMARY:PSYCHOTROPIC BREATHWORK
DESCRIPTION:Un estado mental fuera de lo común\, por medio de la respiración rápida y controlada.
URL:https://haabproject.com/event/psychotropic-breathwork-29/
LOCATION:Amsterdam 255\, CDMX\, Ciudad de México\, 06100\, Mexico
CATEGORIES:Bienestar,Psychotropic Breathwork,Respiración psicotrópica,Wellness
ATTACH;FMTTYPE=image/jpeg:https://haabproject.com/wp-content/uploads/2025/04/PSYCHOTROPIC-13-WEB.jpg
END:VEVENT
BEGIN:VEVENT
DTSTART;TZID=America/Mexico_City:20250517T110000
DTEND;TZID=America/Mexico_City:20250517T220000
DTSTAMP:20260420T004243
CREATED:20250430T225549Z
LAST-MODIFIED:20250430T225549Z
UID:10000750-1747479600-1747519200@haabproject.com
SUMMARY:The Gathering: Road to Yelapa
DESCRIPTION:The Gathering llega a HAAB para co-crear un día de conexión auténtica\, presencia y celebración del camino interior. Este 17 de mayo te invitamos a vivir un pop-up con alma de comunidad: exploraremos el cuerpo\, la mente y la tierra a través de conversaciones sobre adaptógenos\, arte\, flash tattoos\, DJ dance yoga y otras experiencias que despiertan los sentidos. The Gathering: Yelapa es un festival boutique que sucede en la selva de Jalisco\, donde la música\, la consciencia\, el arte y la sostenibilidad se viven desde lo real y lo compartido. \nEste encuentro en HAAB es una invitación a volver al centro. A recordar lo esencial. Y a comenzar la aventura hacia Yelapa desde adentro.
URL:https://haabproject.com/event/the-gathering-road-to-yelapa/
LOCATION:HAAB\, Amsterdam 255\, CDMX\, Ciudad de México\, 06100\, Mexico
CATEGORIES:Art & Culture,Arte y Cultura,Bienestar,Social,Social,Wellness
ATTACH;FMTTYPE=image/jpeg:https://haabproject.com/wp-content/uploads/2025/04/YELAPA-WEB.jpg
END:VEVENT
BEGIN:VEVENT
DTSTART;TZID=America/Mexico_City:20250518T100000
DTEND;TZID=America/Mexico_City:20250518T130000
DTSTAMP:20260420T004243
CREATED:20250429T130913Z
LAST-MODIFIED:20250429T130913Z
UID:10000738-1747562400-1747573200@haabproject.com
SUMMARY:ALAYA Vol. 6 – Vivir Despierta: El Regreso al Presente
DESCRIPTION:¿Y si hoy volvieras a ti? \nEn un mundo que corre\, que exige\, que aplaude el hacer sin parar… \nVivir se volvió un acto automático. \nSobrevivimos en rutinas que nos desconectan del cuerpo\, de la emoción y de la presencia. \nPero tú no viniste a funcionar. \nViniste a sentir. \nALAYA Vol. 6 es el recordatorio. \nEs el espacio sagrado donde regresarás al cuerpo. \nDonde el aire será tu medicina. \nDonde una respiración bastará para reconectar con lo que eres.
URL:https://haabproject.com/event/alaya-vol-6-vivir-despierta-el-regreso-al-presente/
LOCATION:HAAB\, Amsterdam 255\, CDMX\, Ciudad de México\, 06100\, Mexico
CATEGORIES:Bienestar,Wellness
ATTACH;FMTTYPE=image/jpeg:https://haabproject.com/wp-content/uploads/2025/04/FLY-WEB-8.jpg
END:VEVENT
END:VCALENDAR