BEGIN:VCALENDAR
VERSION:2.0
PRODID:-//HAAB Project - ECPv6.15.20//NONSGML v1.0//EN
CALSCALE:GREGORIAN
METHOD:PUBLISH
X-WR-CALNAME:HAAB Project
X-ORIGINAL-URL:https://haabproject.com
X-WR-CALDESC:Events for HAAB Project
REFRESH-INTERVAL;VALUE=DURATION:PT1H
X-Robots-Tag:noindex
X-PUBLISHED-TTL:PT1H
BEGIN:VTIMEZONE
TZID:America/Mexico_City
BEGIN:DAYLIGHT
TZOFFSETFROM:-0600
TZOFFSETTO:-0500
TZNAME:CDT
DTSTART:20220403T080000
END:DAYLIGHT
BEGIN:STANDARD
TZOFFSETFROM:-0500
TZOFFSETTO:-0600
TZNAME:CST
DTSTART:20221030T070000
END:STANDARD
END:VTIMEZONE
BEGIN:VEVENT
DTSTART;TZID=America/Mexico_City:20231018T183000
DTEND;TZID=America/Mexico_City:20231018T210000
DTSTAMP:20260422T170831
CREATED:20230919T203346Z
LAST-MODIFIED:20230919T203346Z
UID:10000285-1697653800-1697662800@haabproject.com
SUMMARY:VUELO DEL ESPÍRITU | Una contemplación de la muerte
DESCRIPTION:Es realmente sorprendente lo que un proceso de contemplación de la muerte puede desbloquear. \nVenimos a la Tierra para practicar la impermanencia y el desapego: es la mayor lección del alma para dejar ir. \nAun así\, no queremos pensar que algo acabará\, e intentamos aferrarnos todo lo que podemos\, a las personas de nuestra vida\, a nuestros trabajos\, a lo familiar… incluso negamos nuestra mortalidad\, actuando como si fuéramos a estar aquí para siempre. \nPero cuanto más desconectados estemos del concepto de muerte y de la energía del cambio\, más desconectados estaremos de la vida. Cuando nos hacemos amigos de la muerte\, vivimos la vida plenamente.
URL:https://haabproject.com/event/vuelo-del-espiritu-una-contemplacion-de-la-muerte/
LOCATION:Amsterdam 255\, CDMX\, Ciudad de México\, 06100\, Mexico
CATEGORIES:Bienestar
ATTACH;FMTTYPE=image/png:https://haabproject.com/wp-content/uploads/2023/09/Spirit-Flight-Wix.png
END:VEVENT
END:VCALENDAR