BEGIN:VCALENDAR
VERSION:2.0
PRODID:-//HAAB Project - ECPv6.15.20//NONSGML v1.0//EN
CALSCALE:GREGORIAN
METHOD:PUBLISH
X-WR-CALNAME:HAAB Project
X-ORIGINAL-URL:https://haabproject.com
X-WR-CALDESC:Events for HAAB Project
REFRESH-INTERVAL;VALUE=DURATION:PT1H
X-Robots-Tag:noindex
X-PUBLISHED-TTL:PT1H
BEGIN:VTIMEZONE
TZID:America/Mexico_City
BEGIN:STANDARD
TZOFFSETFROM:-0600
TZOFFSETTO:-0600
TZNAME:CST
DTSTART:20250101T000000
END:STANDARD
END:VTIMEZONE
BEGIN:VEVENT
DTSTART;TZID=America/Mexico_City:20260212T193000
DTEND;TZID=America/Mexico_City:20260212T220000
DTSTAMP:20260419T155040
CREATED:20260119T015228Z
LAST-MODIFIED:20260123T204828Z
UID:10000876-1770924600-1770933600@haabproject.com
SUMMARY:CURIOUS NIGHT SESSIONS: “El arte de habitar los opuestos”
DESCRIPTION:Este 12 de febrero\, Karla Rojo de la Vega y Pamela Jean llegan a HAAB para hackear los paradigmas que te mantienen atorado. \n​Hablemos de lo que pocos se atreven a integrar: \nDualidad: De la contradicción a la congruencia.Caos: La antesala necesaria de tu nuevo orden.Sombras: El mapa hacia tu luz más honesta. \n​Una charla para mentes curiosas\, buscadores y alquimistas modernos. \n​¡No te pierdas esta noche de alquimia en HAAB!
URL:https://haabproject.com/event/curious-night-sessions-el-arte-de-habitar-los-opuestos/
LOCATION:HAAB\, Amsterdam 255\, CDMX\, Ciudad de México\, 06100\, Mexico
CATEGORIES:Art & Culture
ATTACH;FMTTYPE=image/jpeg:https://haabproject.com/wp-content/uploads/2026/01/CURIOUS-NIGHT-SESSIONS-WEB-1.jpg
END:VEVENT
END:VCALENDAR