BEGIN:VCALENDAR
VERSION:2.0
PRODID:-//HAAB Project - ECPv6.15.20//NONSGML v1.0//EN
CALSCALE:GREGORIAN
METHOD:PUBLISH
X-WR-CALNAME:HAAB Project
X-ORIGINAL-URL:https://haabproject.com
X-WR-CALDESC:Events for HAAB Project
REFRESH-INTERVAL;VALUE=DURATION:PT1H
X-Robots-Tag:noindex
X-PUBLISHED-TTL:PT1H
BEGIN:VTIMEZONE
TZID:America/Mexico_City
BEGIN:STANDARD
TZOFFSETFROM:-0600
TZOFFSETTO:-0600
TZNAME:CST
DTSTART:20240101T000000
END:STANDARD
END:VTIMEZONE
BEGIN:VEVENT
DTSTART;TZID=America/Mexico_City:20251206T093000
DTEND;TZID=America/Mexico_City:20251206T133000
DTSTAMP:20260419T165756
CREATED:20251105T192054Z
LAST-MODIFIED:20251118T000956Z
UID:10000845-1765013400-1765027800@haabproject.com
SUMMARY:Create Your Own Talisman: Lost Wax Jewelry Workshop
DESCRIPTION:A Talisman is jewelry with intention and soul. \nConnect with your creativity and learn the craft of jewelry making through the ancient Lost Wax Casting process. \nIn this 4-hour workshop\, you’ll be guided by Charlotte and Kateryna — experienced designers and jewelry makers — through the fundamentals of wax sculpting. You’ll begin by setting your intention\, then move into designing and shaping your ring or pendant\, bringing your idea to life and ready to be cast in the metal of your choice. \nA selection of gems will be available to spark your inspiration. Four days after the workshop\, your one-of-a-kind\, ready-to-wear piece will be returned to you. \nThis workshop is open to beginners and anyone curious about the creative process behind jewelry.\nIncludes: workshop\, casting\, stone setting (up to 2 gems)\, finishing. \nIMPORTANT: Excluded from workshop price: \n\nMetals (Silver or Brass)\nSelection of gemstones are available for purchase (starting from 80 pesos)\nGold plating available upon request
URL:https://haabproject.com/event/create-your-own-talisman-lost-wax-jewelry-workshop/
LOCATION:HAAB\, Amsterdam 255\, CDMX\, Ciudad de México\, 06100\, Mexico
CATEGORIES:Art & Culture
ATTACH;FMTTYPE=image/jpeg:https://haabproject.com/wp-content/uploads/2025/11/IMG_2845.jpeg
END:VEVENT
END:VCALENDAR