BEGIN:VCALENDAR
VERSION:2.0
PRODID:-//HAAB Project - ECPv6.15.20//NONSGML v1.0//EN
CALSCALE:GREGORIAN
METHOD:PUBLISH
X-WR-CALNAME:HAAB Project
X-ORIGINAL-URL:https://haabproject.com
X-WR-CALDESC:Events for HAAB Project
REFRESH-INTERVAL;VALUE=DURATION:PT1H
X-Robots-Tag:noindex
X-PUBLISHED-TTL:PT1H
BEGIN:VTIMEZONE
TZID:America/Mexico_City
BEGIN:STANDARD
TZOFFSETFROM:-0600
TZOFFSETTO:-0600
TZNAME:CST
DTSTART:20240101T000000
END:STANDARD
END:VTIMEZONE
BEGIN:VEVENT
DTSTART;TZID=America/Mexico_City:20250209T100000
DTEND;TZID=America/Mexico_City:20250209T130000
DTSTAMP:20260419T094406
CREATED:20250129T224325Z
LAST-MODIFIED:20250129T224325Z
UID:10000689-1739095200-1739106000@haabproject.com
SUMMARY:FLY by ALAYA – Volumen 3: Transformación Sagrada: Soltar y Renacer
DESCRIPTION:💭 ¿Estás listo para soltar lo viejo\, renacer desde tu esencia y conectar con tu fuego interno? \nEste domingo\, 9 de febrero\, acompáñanos en una experiencia inmersiva donde exploraremos el cierre de ciclos\, la alquimia interna y la conexión con los elementos del invierno. Trabajaremos con la fuerza transformadora del agua y el fuego\, armonizando nuestras emociones y liberando nuestra energía. \n✨ Qué viviremos: \n🌊 Baño de Gongs con Analí Róbelo: Conecta con los ancestros y libera bloqueos a través de la vibración del sonido. \n🎶 Sound Healing con Cuencos: Sana y transforma tus emociones con frecuencias que armonizan cuerpo\, mente y espíritu. \n🍫 Ceremonia de Cacao: Abre el corazón y profundiza en tu conexión emocional. \n🔊 El Poder de la Voz y el Canto Colectivo: Descubre la fuerza de tu voz para desbloquear tu chakra garganta y resonar en unidad con el colectivo. \n🔥 Conexión con el Agua y el Fuego Interno: Reflexionaremos sobre el agua como símbolo de limpieza emocional y el fuego como representación de transformación y vitalidad. \n💫 Este evento es producido por @franzorrilla_fly\, creador de Traveling Souls\, y diseñado para llevarte a una conexión profunda contigo mismo\, tus emociones y el cosmos. \n📅 Fecha: Domingo\, 9 de febrero \n🕙 Hora: 10:00 AM – 1:00 PM \n📍 Lugar: Secret Location \n🎟️ Precio Early Bird: $700 MXN (válido hasta el 5 de febrero). \n📩 ¡Cupo limitado! Reserva tu lugar aquí: [Enlace de compra]
URL:https://haabproject.com/event/fly-by-alaya-volumen-3-transformacion-sagrada-soltar-y-renacer/
LOCATION:HAAB\, Amsterdam 255\, CDMX\, Ciudad de México\, 06100\, Mexico
CATEGORIES:Bienestar,Wellness
ATTACH;FMTTYPE=image/jpeg:https://haabproject.com/wp-content/uploads/2025/01/FLY-WEB-2.jpg
END:VEVENT
END:VCALENDAR