BEGIN:VCALENDAR
VERSION:2.0
PRODID:-//HAAB Project - ECPv6.15.20//NONSGML v1.0//EN
CALSCALE:GREGORIAN
METHOD:PUBLISH
X-WR-CALNAME:HAAB Project
X-ORIGINAL-URL:https://haabproject.com
X-WR-CALDESC:Events for HAAB Project
REFRESH-INTERVAL;VALUE=DURATION:PT1H
X-Robots-Tag:noindex
X-PUBLISHED-TTL:PT1H
BEGIN:VTIMEZONE
TZID:America/Mexico_City
BEGIN:STANDARD
TZOFFSETFROM:-0600
TZOFFSETTO:-0600
TZNAME:CST
DTSTART:20230101T000000
END:STANDARD
END:VTIMEZONE
BEGIN:VEVENT
DTSTART;TZID=America/Mexico_City:20240123T180000
DTEND;TZID=America/Mexico_City:20240123T210000
DTSTAMP:20260421T054529
CREATED:20240104T225408Z
LAST-MODIFIED:20240104T225408Z
UID:10000343-1706032800-1706043600@haabproject.com
SUMMARY:Doing Business in Mexico 🇲🇽 2024 Landscape: Charting the Course of Progress
DESCRIPTION:Delving into 2024: Unveiling emerging trends in technology\, sustainability\, and business innovation\, to navigate and shape a progressive\, transformative future.
URL:https://haabproject.com/event/doing-business-in-mexico-%f0%9f%87%b2%f0%9f%87%bd-2024-landscape-charting-the-course-of-progress/
LOCATION:Amsterdam 255\, CDMX\, Ciudad de México\, 06100\, Mexico
CATEGORIES:Innovation & Knowledge
ATTACH;FMTTYPE=image/png:https://haabproject.com/wp-content/uploads/2024/01/HAAB-WIx-5.png
END:VEVENT
END:VCALENDAR